BEGIN:VCALENDAR
VERSION:2.0
PRODID:-//ReaLisa You - ECPv6.15.20//NONSGML v1.0//EN
CALSCALE:GREGORIAN
METHOD:PUBLISH
X-ORIGINAL-URL:https://realisayou.nl
X-WR-CALDESC:Evenementen voor ReaLisa You
REFRESH-INTERVAL;VALUE=DURATION:PT1H
X-Robots-Tag:noindex
X-PUBLISHED-TTL:PT1H
BEGIN:VTIMEZONE
TZID:Europe/Amsterdam
BEGIN:DAYLIGHT
TZOFFSETFROM:+0100
TZOFFSETTO:+0200
TZNAME:CEST
DTSTART:20250330T010000
END:DAYLIGHT
BEGIN:STANDARD
TZOFFSETFROM:+0200
TZOFFSETTO:+0100
TZNAME:CET
DTSTART:20251026T010000
END:STANDARD
BEGIN:DAYLIGHT
TZOFFSETFROM:+0100
TZOFFSETTO:+0200
TZNAME:CEST
DTSTART:20260329T010000
END:DAYLIGHT
BEGIN:STANDARD
TZOFFSETFROM:+0200
TZOFFSETTO:+0100
TZNAME:CET
DTSTART:20261025T010000
END:STANDARD
BEGIN:DAYLIGHT
TZOFFSETFROM:+0100
TZOFFSETTO:+0200
TZNAME:CEST
DTSTART:20270328T010000
END:DAYLIGHT
BEGIN:STANDARD
TZOFFSETFROM:+0200
TZOFFSETTO:+0100
TZNAME:CET
DTSTART:20271031T010000
END:STANDARD
END:VTIMEZONE
BEGIN:VEVENT
DTSTART;TZID=Europe/Amsterdam:20260201T193000
DTEND;TZID=Europe/Amsterdam:20260201T203000
DTSTAMP:20260423T020416
CREATED:20260127T184956Z
LAST-MODIFIED:20260127T184956Z
UID:1864-1769974200-1769977800@realisayou.nl
SUMMARY:Oil Talk Februari
DESCRIPTION:In deze Live praten Wendy en ik over de nieuwste oliën\, producten en acties van deze maand! Kom alles te weten over speciale kortingen en hoe je gratis producten kunt scoren.\nZet de datum in je agenda en laat je inspireren!\nJe kunt ons live volgen via de Facebook pagina ReaLisa You en later zal ik de video ook op mijn YouTube kanaal plaatsen mocht je live niet  aanwezig kunnen zijn.\nLeuk als je ook komt luisteren! \nLiefs\,\nWendy & Cindy
URL:https://realisayou.nl/agenda/oil-talk-februari/
LOCATION:online
CATEGORIES:Online
ATTACH;FMTTYPE=image/webp:https://realisayou.nl/wp-content/uploads/2025/05/Scherm_afbeelding-2025-02-20-om-11.51.22-1.webp
END:VEVENT
BEGIN:VEVENT
DTSTART;TZID=Europe/Amsterdam:20260204T100000
DTEND;TZID=Europe/Amsterdam:20260204T110000
DTSTAMP:20260423T020416
CREATED:20260127T185533Z
LAST-MODIFIED:20260127T185600Z
UID:1866-1770199200-1770202800@realisayou.nl
SUMMARY:Valentijn Special – Verleiding in een druppel
DESCRIPTION:alentijn Special – Essentiële oliën voor jou & je Valentijn \nValentijn is hét moment om stil te staan bij liefde\, verbinding en intimiteit.\nTijdens dit inspirerende webinar laten we je kennismaken met verschillende essentiële oliën die je kunt inzetten om de sfeer te verzachten\, het hart te openen en de verbinding met jezelf en/of je partner te verdiepen. \nWe nemen je mee in:\n– Oliën die ondersteunen bij ontspanning en overgave\n– Oliën die sensualiteit en intimiteit versterken\n– Oliën voor zelfliefde\, verbinding en emotionele balans \nOf je dit moment nu deelt met je partner\, je Valentijn of helemaal voor jezelf:\ndit webinar nodigt je uit om liefde bewuster te ervaren\, op een natuurlijke en zachte manier. \nLaat je inspireren en ontdek welke oliën bij jou passen. \nAanmelden kan hier.  \nLiefs\, \nWieteke & Cindy
URL:https://realisayou.nl/agenda/valentijn-special-verleiding-in-een-druppel/
LOCATION:online
ATTACH;FMTTYPE=image/png:https://realisayou.nl/wp-content/uploads/2026/01/Scherm­afbeelding-2026-01-27-om-17.05.30.png
END:VEVENT
BEGIN:VEVENT
DTSTART;TZID=Europe/Amsterdam:20260204T193000
DTEND;TZID=Europe/Amsterdam:20260204T210000
DTSTAMP:20260423T020416
CREATED:20260127T190046Z
LAST-MODIFIED:20260127T190046Z
UID:1869-1770233400-1770238800@realisayou.nl
SUMMARY:Business Discovery dōTERRA
DESCRIPTION:Ben jij nieuwsgierig naar de wereld van wellness\, persoonlijke groei en nieuwe mogelijkheden om te ondernemen? Tijdens deze Business Discovery krijg je een helder en inspirerend kijkje in een van de snelst groeiende industrieën ter wereld. We nemen je mee in de visie achter dōTERRA\, het businessmodel en de kracht van community en natuurlijke producten. Geen verkooppraatjes\, geen verplichtingen\, wél inzicht\, inspiratie en ruimte om te voelen of dit bij jou en jouw levensstijl past. \n\n\n\n\nMeer info stuur me een bericht met ‘bizz’  en ik stuur je meer info. \n\nLiefs Cindy
URL:https://realisayou.nl/agenda/business-discovery-doterra/
LOCATION:online
ATTACH;FMTTYPE=image/jpeg:https://realisayou.nl/wp-content/uploads/2026/01/https___cdn.evbuc_.com_images_1175836741_2915148130601_1_original.jpeg
END:VEVENT
BEGIN:VEVENT
DTSTART;TZID=Europe/Amsterdam:20260210T193000
DTEND;TZID=Europe/Amsterdam:20260210T210000
DTSTAMP:20260423T020416
CREATED:20250527T134336Z
LAST-MODIFIED:20260209T201314Z
UID:651-1770751800-1770757200@realisayou.nl
SUMMARY:Ontdek essentiële oliën
DESCRIPTION:Ontdek de kracht van essentiële oliën  \nBen je benieuwd wat essentiële oliën voor jou kunnen betekenen? \nZou je graag natuurlijke ondersteuning willen voor je gezondheid\, emoties of dagelijkse welzijn? \nTijdens deze inspirerende en ontspannen workshop neem ik je mee in de wereld van pure\, natuurlijke oliën. Je ontdekt hoe je ze veilig en effectief kunt gebruiken voor jezelf\, je gezin en in je huis. Of je nu nieuw bent of al ervaring hebt met oliën – er is altijd iets nieuws te leren en te voelen! \n✨ Wat kun je verwachten? \n•Een kennismaking met de kracht van essentiële oliën \n•Praktische tips en toepassingen voor lichaam en geest \n•Geurervaringen die je zintuigen prikkelen \n•Tijd voor vragen\, delen en verbinding \n💌 Aanmelden: zie deze link \nLaat je verrassen\, verwarmen en verwonderen. \nLiefs\,\nCindy
URL:https://realisayou.nl/agenda/ontdek-essentiele-olien-2/
LOCATION:online
CATEGORIES:Basis workshop,Low Tox Lifestyle,Middelie,Op locatie
ATTACH;FMTTYPE=image/png:https://realisayou.nl/wp-content/uploads/2024/07/Scherm­afbeelding-2024-07-23-om-14.24.35.png
END:VEVENT
BEGIN:VEVENT
DTSTART;VALUE=DATE:20260217
DTEND;VALUE=DATE:20260227
DTSTAMP:20260423T020416
CREATED:20260217T135502Z
LAST-MODIFIED:20260217T135738Z
UID:1928-1771286400-1772150399@realisayou.nl
SUMMARY:Nieuwe Maan Reset – 10 dagen intentie & vernieuwing
DESCRIPTION:🌑 Nieuwe Maan Reset – 10 dagen van intentie & vernieuwing\nVoel jij dat het tijd is om opnieuw te beginnen? Met meer helderheid. Meer focus. Meer vertrouwen in jezelf. \nDe Nieuwe Maan van 17 februari markeert een krachtig nieuw begin.\nEen moment om stil te staan…\nte voelen wat je écht wilt… en bewust nieuwe intenties te zetten voor de komende periode. \nGeen haast.\nGeen moeten.\nWel afstemming. \n🗓 17 februari t/m 26 februari 2026\n🌑 Nieuwe Maan \nThema: intentie zetten\, innerlijke vernieuwing & ruimte maken voor wat wil groeien. \n\nTijdens deze 10-daagse Nieuwe Maan Reset ontvang je:\nFrequenties op afstand die jouw systeem ondersteunen in reset\, balans en nieuwe energie\n(focus\, detox\, clarity\, heart alignment & new beginnings)\nEen persoonlijk muziekfragment\, afgestemd op jouw energie\n(na ontvangst van jouw stemopname)\n\nDeze periode gaat over zaaien.\nWat wil jij laten groeien?\nWelke energie wil jij voeden?\nJe hoeft niets te forceren.\nDe frequenties werken zacht op de achtergrond terwijl jij bewust meebeweegt met deze natuurlijke cyclus van vernieuwing. \nNa je aanmelding ontvang je van mij een berichtje met wat ik nodig heb voor jouw persoonlijke afstemming.\nZodra ik jouw stemopname heb ontvangen\, start ik direct met het sturen van de frequenties en ontvang jij jouw persoonlijke muziekfragment.\nIk kijk ernaar uit om samen met jou deze Nieuwe Maan Reset te beleven 🌑 \nGun jezelf dit moment om opnieuw te kiezen.\nOm te vertragen.\nOm ruimte te maken voor jouw volgende stap. \nLiefs\nCindy 🌸 \n\n\n\n\n\np.s. aanmelden kan via deze link stuur mij een bericht met ‘Nieuwe Maan’.
URL:https://realisayou.nl/agenda/nieuwe-maan-reset-10-dagen-intentie-vernieuwing/
LOCATION:online
CATEGORIES:frequenties,Nieuwe Maan,Online
ATTACH;FMTTYPE=image/png:https://realisayou.nl/wp-content/uploads/2025/10/Scherm­afbeelding-2025-10-07-om-16.50.10.png
END:VEVENT
BEGIN:VEVENT
DTSTART;TZID=Europe/Amsterdam:20260217T193000
DTEND;TZID=Europe/Amsterdam:20260217T210000
DTSTAMP:20260423T020416
CREATED:20260127T191027Z
LAST-MODIFIED:20260127T191038Z
UID:1875-1771356600-1771362000@realisayou.nl
SUMMARY:Essentiële oliën voor honden
DESCRIPTION:Gratis Webinar: Essentiële oliën voor honden\, de vuurwerk editie! \nIn deze webinar leer je hoe je essentiële oliën op een veilige en effectieve manier kunt gebruiken om jouw hond te ondersteunen. We bespreken welke oliën geschikt zijn\, hoe je ze toepast en wat een verantwoorde dosering is. \nIk werk samen met Wendy van Essentiële Olie en Meer\, en dit webinar wordt via haar georganiseerd. Na aanmelding ontvang je de link via WhatsApp\, dus zorg ervoor dat je je mobiele nummer doorgeeft. Vermeld daarbij ook mijn naam\, Cindy B.\, zodat Wendy weet dat je via mij komt. \nWil je meedoen? Meld je aan en ontdek hoe essentiële oliën een waardevolle aanvulling kunnen zijn voor de gezondheid en het welzijn van je hond.
URL:https://realisayou.nl/agenda/essentiele-olien-voor-honden-9/
LOCATION:online
CATEGORIES:Dieren,Online
ATTACH;FMTTYPE=image/png:https://realisayou.nl/wp-content/uploads/2025/03/Scherm­afbeelding-2025-03-22-om-14.48.19.png
END:VEVENT
BEGIN:VEVENT
DTSTART;TZID=Europe/Amsterdam:20260218T193000
DTEND;TZID=Europe/Amsterdam:20260218T203000
DTSTAMP:20260423T020416
CREATED:20260127T192246Z
LAST-MODIFIED:20260128T135057Z
UID:1877-1771443000-1771446600@realisayou.nl
SUMMARY:Zelfliefde & Verbinding
DESCRIPTION:Workshop Zelfliefde & Verbinding \nZelfliefde begint bij verbinding met jezelf.\nTijdens deze online workshop nemen we je mee in een zachte\, maar krachtige beleving rondom zelfliefde\, hart openen en innerlijke balans. \nWe werken interactief met essentiële oliën als basis\, aangevuld met o.a. acupressuurpunten\, affirmaties en/of frequenties\, afgestemd op het thema van de avond.\nJe gaat dus niet alleen luisteren\, maar vooral ervaren\, voelen en toepassen. \nVoor deelname is het belangrijk dat je de olie Geranium & Ylang Ylang (dōTERRA) in huis hebt.\nDeze hart openende olie ondersteunt bij zelfliefde\, emotionele balans en het verzachten van oude patronen. \n✔ Ben je lid van Essentiële Oliën en Meer en heb je Geranium en Ylang Ylang in huis? Dan kun je gratis meedoen.\n✔ Heb je Geranium en Ylang Ylang nog niet? Dan kun je een sample-pakketje aanvragen of de olie aanschaffen via de account. \nAanmelden kan hier. \nGun jezelf dit moment van verbinding en liefde voor jezelf. \nLiefs\,\nCindy \nEr komt een opname beschikbaar voor degene die zich aanmelden\, deze blijft online tot eind februari. \n  \n 
URL:https://realisayou.nl/agenda/zelfliefde-verbinding/
LOCATION:online
ATTACH;FMTTYPE=image/jpeg:https://realisayou.nl/wp-content/uploads/2026/01/WhatsApp-Image-2026-01-27-at-16.06.05.jpeg
END:VEVENT
BEGIN:VEVENT
DTSTART;TZID=Europe/Amsterdam:20260221T100000
DTEND;TZID=Europe/Amsterdam:20260221T113000
DTSTAMP:20260423T020416
CREATED:20260203T134651Z
LAST-MODIFIED:20260203T134700Z
UID:1884-1771668000-1771673400@realisayou.nl
SUMMARY:Olie\, Koffie & Klets – Inloopochtend
DESCRIPTION:Olie\, Koffie & Klets – Inloopochtend \nZaterdag 21 februari  van 10.00 – 11.30 uur ben je van harte welkom bij mij thuis voor een gezellig en inspirerend team only moment. \nWat kun je verwachten?\nAlle oliën ruiken en ervaren (misschien heb je er een paar op je lijstje die je eerst wilt proberen)\nSnuffelen tussen boeken en magazines\nEen kopje koffie of thee + proeven van o.a. vmg+\, MetaPWR Advantage en elektrolyten\nHandmassage leren met de AromaTouch techniek\nJe vragen aan mij stellen\nEn natuurlijk fijn samen zijn met andere “oliefreaks” \nWil je iemand meenemen die nog niet in ons team zit? Die is van harte welkom!\nEn extra leuk: gasten die zelf nog geen oliën hebben\, krijgen 4 gratis olie-samples mee naar huis om te testen\, mét filmpjes en een opname van het basiswebinar. \nOm 11.30 uur zwaai ik iedereen weer uit\, want ik moet daarna door naar een afspraak. \nIk kijk ernaar uit om jullie te zien! \nAanmelden kan hier.  \nTot snuffels! \nCindy \n 
URL:https://realisayou.nl/agenda/olie-koffie-klets-inloopochtend-4/
LOCATION:Middelie
CATEGORIES:Low Tox Lifestyle,Op locatie
ATTACH;FMTTYPE=image/png:https://realisayou.nl/wp-content/uploads/2026/02/Scherm­afbeelding-2026-02-03-om-14.46.24.png
END:VEVENT
BEGIN:VEVENT
DTSTART;TZID=Europe/Amsterdam:20260224T193000
DTEND;TZID=Europe/Amsterdam:20260224T210000
DTSTAMP:20260423T020416
CREATED:20260127T192506Z
LAST-MODIFIED:20260127T192506Z
UID:1880-1771961400-1771966800@realisayou.nl
SUMMARY:Essentiële oliën voor paarden
DESCRIPTION:GRATIS WEBINAR paarden en essentiële oliën. \nWat kun je verwachten? \n\nwat zijn essentiële oliën?\nwaarom dōTERRA\nveiligheid en kracht\nhoe kun je ze bij je paard inzetten?\nveelvoorkomende klachten bij paarden + olie\ngeurtest\naroma wellness behandeling\nachteraf wordt een olie verloot onder de deelnemers\n\nLijkt het je leuk om ook te leren hoe je zeer effectief je paard in zijn gezondheid kunt ondersteunen? \nWil je meedoen? Meld je aan en ontdek hoe essentiële oliën een waardevolle aanvulling kunnen zijn voor de gezondheid en het welzijn van je paard. \nIk werk samen met Wendy Draaijer\, en dit webinar wordt via haar georganiseerd. Na aanmelding ontvang je de link via WhatsApp\, dus zorg ervoor dat je je mobiele nummer doorgeeft.\nBij aanmelden even aangeven dat je via mij komt “Cindy B.”
URL:https://realisayou.nl/agenda/essentiele-olien-voor-paarden-10/
LOCATION:online
CATEGORIES:Dieren,Online
ATTACH;FMTTYPE=image/png:https://realisayou.nl/wp-content/uploads/2025/04/Scherm­afbeelding-2025-04-04-om-11.26.33.png
END:VEVENT
END:VCALENDAR