BEGIN:VCALENDAR
VERSION:2.0
PRODID:-//ReaLisa You - ECPv6.15.20//NONSGML v1.0//EN
CALSCALE:GREGORIAN
METHOD:PUBLISH
X-WR-CALNAME:ReaLisa You
X-ORIGINAL-URL:https://realisayou.nl
X-WR-CALDESC:Evenementen voor ReaLisa You
REFRESH-INTERVAL;VALUE=DURATION:PT1H
X-Robots-Tag:noindex
X-PUBLISHED-TTL:PT1H
BEGIN:VTIMEZONE
TZID:Europe/Amsterdam
BEGIN:DAYLIGHT
TZOFFSETFROM:+0100
TZOFFSETTO:+0200
TZNAME:CEST
DTSTART:20250330T010000
END:DAYLIGHT
BEGIN:STANDARD
TZOFFSETFROM:+0200
TZOFFSETTO:+0100
TZNAME:CET
DTSTART:20251026T010000
END:STANDARD
BEGIN:DAYLIGHT
TZOFFSETFROM:+0100
TZOFFSETTO:+0200
TZNAME:CEST
DTSTART:20260329T010000
END:DAYLIGHT
BEGIN:STANDARD
TZOFFSETFROM:+0200
TZOFFSETTO:+0100
TZNAME:CET
DTSTART:20261025T010000
END:STANDARD
BEGIN:DAYLIGHT
TZOFFSETFROM:+0100
TZOFFSETTO:+0200
TZNAME:CEST
DTSTART:20270328T010000
END:DAYLIGHT
BEGIN:STANDARD
TZOFFSETFROM:+0200
TZOFFSETTO:+0100
TZNAME:CET
DTSTART:20271031T010000
END:STANDARD
END:VTIMEZONE
BEGIN:VEVENT
DTSTART;TZID=Europe/Amsterdam:20260113T193000
DTEND;TZID=Europe/Amsterdam:20260113T203000
DTSTAMP:20260422T231410
CREATED:20251228T161801Z
LAST-MODIFIED:20251228T163015Z
UID:1792-1768332600-1768336200@realisayou.nl
SUMMARY:Vrouwen\, Hormonen en Essentiële oliën
DESCRIPTION:Ben jij het zat om overgeleverd te zijn aan je hormonen?\nZou jij de magie willen ervaren van hormonaal balans?\nZou je graag meer willen leren over vrouwen & hormonen?\nEn hoe jij je hormoonhuishouding kan resetten en weer in balans kan krijgen. Deze webinar is ontwikkeld met specialisten op dit gebied. \nAanmelden kan hier \nNa het aanmelden ontvang je de webinar link per whatsapp\, dus vergeet niet je mobiele nummer door te geven bij het aanmelden.
URL:https://realisayou.nl/agenda/vrouwen-hormonen-en-essentiele-olien/
ATTACH;FMTTYPE=image/png:https://realisayou.nl/wp-content/uploads/2025/12/Scherm­afbeelding-2025-12-28-om-17.19.30.png
END:VEVENT
BEGIN:VEVENT
DTSTART;TZID=Europe/Amsterdam:20260118T100000
DTEND;TZID=Europe/Amsterdam:20260118T130000
DTSTAMP:20260422T231410
CREATED:20251118T224845Z
LAST-MODIFIED:20251118T224845Z
UID:1653-1768730400-1768741200@realisayou.nl
SUMMARY:Fast Solution Training – Symphony of the Cells™
DESCRIPTION:Tijdens deze ééndaagse training leer je alles over de bijzondere Symphony of the Cells™️-techniek\, ontwikkeld door Boyd Truman.\nSOC is een eenvoudige maar krachtige methode waarbij specifieke essentiële oliën in een vaste volgorde op de rug en voeten worden aangebracht. Elke toepassing richt zich op een ander lichaamssysteem\, zodat je doelgericht en intuïtief ondersteuning kunt bieden aan jezelf én aan anderen. \nWat gaan we doen? \nUitleg over de achtergrond en filosofie van Symphony of the Cells™️. \nKennis maken met de verschillende protocollen en toepassingen. \nStap voor stap leren hoe je deze techniek uitvoert. \nOefenen met elkaar\, zodat je de toepassing écht in je vingers krijgt. \nPraktische tips voor gebruik thuis\, bij familie\, cliënten of in je praktijk. \nNa deze dag ga je naar huis met: \nKennis over de verschillende protocollen en waar je die voor kunt inzetten. \nPraktische ervaring in het geven én ontvangen van een toepassing. \nEen hand-out/overzicht waarmee je direct aan de slag kunt. \n✨ Een officieel deelnamecertificaat ✨ \nKortom: een hands-on dag waarin je zowel theorie als praktijk meekrijgt\, en ontdekt hoe Symphony of the Cells™️ een ‘fast solution’ kan zijn bij veel dagelijkse uitdagingen. \nDeze ‘Fast Solution training’ wordt gegeven onderleiding van mijn collega Wendy Draaijer. \nWanneer je je aanmeld geven dan aub ook even aan dat je via “Cindy B”  komt.\nAanmelden via deze link
URL:https://realisayou.nl/agenda/fast-solution-training-symphony-of-the-cells-2/
LOCATION:Apeldoorn
CATEGORIES:Op locatie
ATTACH;FMTTYPE=image/png:https://realisayou.nl/wp-content/uploads/2025/11/Scherm­afbeelding-2025-11-18-om-11.08.01-e1763506107486.png
END:VEVENT
BEGIN:VEVENT
DTSTART;TZID=Europe/Amsterdam:20260120T193000
DTEND;TZID=Europe/Amsterdam:20260120T210000
DTSTAMP:20260422T231410
CREATED:20251228T162234Z
LAST-MODIFIED:20251228T162234Z
UID:1795-1768937400-1768942800@realisayou.nl
SUMMARY:Essentiële oliën voor honden
DESCRIPTION:Gratis Webinar: Essentiële oliën voor honden\, de vuurwerk editie! \nIn deze webinar leer je hoe je essentiële oliën op een veilige en effectieve manier kunt gebruiken om jouw hond te ondersteunen. We bespreken welke oliën geschikt zijn\, hoe je ze toepast en wat een verantwoorde dosering is. \nIk werk samen met Wendy van Essentiële Olie en Meer\, en dit webinar wordt via haar georganiseerd. Na aanmelding ontvang je de link via WhatsApp\, dus zorg ervoor dat je je mobiele nummer doorgeeft. Vermeld daarbij ook mijn naam\, Cindy B.\, zodat Wendy weet dat je via mij komt. \nWil je meedoen? Meld je aan en ontdek hoe essentiële oliën een waardevolle aanvulling kunnen zijn voor de gezondheid en het welzijn van je hond.
URL:https://realisayou.nl/agenda/essentiele-olien-voor-honden-8/
LOCATION:online
CATEGORIES:Dieren,Online
ATTACH;FMTTYPE=image/png:https://realisayou.nl/wp-content/uploads/2025/03/Scherm­afbeelding-2025-03-22-om-14.48.19.png
END:VEVENT
BEGIN:VEVENT
DTSTART;TZID=Europe/Amsterdam:20260127T193000
DTEND;TZID=Europe/Amsterdam:20260127T210000
DTSTAMP:20260422T231410
CREATED:20251228T162437Z
LAST-MODIFIED:20251228T162945Z
UID:1797-1769542200-1769547600@realisayou.nl
SUMMARY:Essentiële oliën voor paarden
DESCRIPTION:GRATIS WEBINAR paarden en essentiële oliën. \nWat kun je verwachten? \n\nwat zijn essentiële oliën?\nwaarom dōTERRA\nveiligheid en kracht\nhoe kun je ze bij je paard inzetten?\nveelvoorkomende klachten bij paarden + olie\ngeurtest\naroma wellness behandeling\nachteraf wordt een olie verloot onder de deelnemers\n\nLijkt het je leuk om ook te leren hoe je zeer effectief je paard in zijn gezondheid kunt ondersteunen? \nWil je meedoen? Meld je aan en ontdek hoe essentiële oliën een waardevolle aanvulling kunnen zijn voor de gezondheid en het welzijn van je paard. \nIk werk samen met Wendy Draaijer\, en dit webinar wordt via haar georganiseerd. Na aanmelding ontvang je de link via WhatsApp\, dus zorg ervoor dat je je mobiele nummer doorgeeft.\nBij aanmelden even aangeven dat je via mij komt “Cindy B.”
URL:https://realisayou.nl/agenda/essentiele-olien-voor-paarden-9/
LOCATION:online
CATEGORIES:Dieren,Online
ATTACH;FMTTYPE=image/png:https://realisayou.nl/wp-content/uploads/2025/04/Scherm­afbeelding-2025-04-04-om-11.26.33.png
END:VEVENT
END:VCALENDAR