BEGIN:VCALENDAR
VERSION:2.0
PRODID:-//ReaLisa You - ECPv6.15.20//NONSGML v1.0//EN
CALSCALE:GREGORIAN
METHOD:PUBLISH
X-ORIGINAL-URL:https://realisayou.nl
X-WR-CALDESC:Evenementen voor ReaLisa You
REFRESH-INTERVAL;VALUE=DURATION:PT1H
X-Robots-Tag:noindex
X-PUBLISHED-TTL:PT1H
BEGIN:VTIMEZONE
TZID:Europe/Amsterdam
BEGIN:DAYLIGHT
TZOFFSETFROM:+0100
TZOFFSETTO:+0200
TZNAME:CEST
DTSTART:20240331T010000
END:DAYLIGHT
BEGIN:STANDARD
TZOFFSETFROM:+0200
TZOFFSETTO:+0100
TZNAME:CET
DTSTART:20241027T010000
END:STANDARD
BEGIN:DAYLIGHT
TZOFFSETFROM:+0100
TZOFFSETTO:+0200
TZNAME:CEST
DTSTART:20250330T010000
END:DAYLIGHT
BEGIN:STANDARD
TZOFFSETFROM:+0200
TZOFFSETTO:+0100
TZNAME:CET
DTSTART:20251026T010000
END:STANDARD
BEGIN:DAYLIGHT
TZOFFSETFROM:+0100
TZOFFSETTO:+0200
TZNAME:CEST
DTSTART:20260329T010000
END:DAYLIGHT
BEGIN:STANDARD
TZOFFSETFROM:+0200
TZOFFSETTO:+0100
TZNAME:CET
DTSTART:20261025T010000
END:STANDARD
END:VTIMEZONE
BEGIN:VEVENT
DTSTART;VALUE=DATE:20251201
DTEND;VALUE=DATE:20260101
DTSTAMP:20260423T020427
CREATED:20251203T151019Z
LAST-MODIFIED:20251203T151019Z
UID:1695-1764547200-1767225599@realisayou.nl
SUMMARY:Frankincense & Friends
DESCRIPTION:December wordt magisch… en jij kunt meedoen! Voel jij ook dat december altijd zo’n maand is om te vertragen\, te verdiepen en je verbinding te versterken?Dan ga je deze Frankincense maand zó fijn vinden. Een hele maand lang ontvang je — vanuit één rustige\, alleen-lezen WhatsApp groep  korte video’s mini-workshops tips voor mens\, hond & paard inspirerende bijdrages van ons team ‘essentiele olie en meer’ én het team ‘Helio’Alles met één prachtige rode draad: Frankincense.De olie van rust\, verbinding\, helderheid en verdieping.Heb je nog geen account?Dan kun je optioneel voor €9\,99 een sample ontvangen met 10 druppels Frankincense — zodat je echt mee kunt voelen en ervaren.Wil je erbij zijn?Stuur me een berichtje met het woord “Franki” om aan te melden! Liefs\,Cindy \np.s. je kunt gewoon later in de maand instromen!
URL:https://realisayou.nl/agenda/frankincense-friends/
LOCATION:online
CATEGORIES:Online
ATTACH;FMTTYPE=image/png:https://realisayou.nl/wp-content/uploads/2025/12/Scherm­afbeelding-2025-12-03-om-11.56.14.png
END:VEVENT
BEGIN:VEVENT
DTSTART;TZID=Europe/Amsterdam:20251201T130000
DTEND;TZID=Europe/Amsterdam:20251201T140000
DTSTAMP:20260423T020427
CREATED:20251101T152056Z
LAST-MODIFIED:20251128T184607Z
UID:1566-1764594000-1764597600@realisayou.nl
SUMMARY:Oil Talk December
DESCRIPTION:In deze Live praten Wendy en ik over de nieuwste oliën\, producten en acties van deze maand! Kom alles te weten over speciale kortingen en hoe je gratis producten kunt scoren.\nZet de datum in je agenda en laat je inspireren!\nJe kunt ons live volgen via de Facebook pagina ReaLisa You en later zal ik de video ook op mijn YouTube kanaal plaatsen mocht je live niet  aanwezig kunnen zijn.\nLeuk als je ook komt luisteren! \nLiefs\,\nWendy & Cindy
URL:https://realisayou.nl/agenda/oil-talk-december/
LOCATION:online
ATTACH;FMTTYPE=image/webp:https://realisayou.nl/wp-content/uploads/2025/05/Scherm_afbeelding-2025-02-20-om-11.51.22-1.webp
END:VEVENT
BEGIN:VEVENT
DTSTART;VALUE=DATE:20251205
DTEND;VALUE=DATE:20251215
DTSTAMP:20260423T020427
CREATED:20251007T143412Z
LAST-MODIFIED:20251203T160258Z
UID:1212-1764892800-1765756799@realisayou.nl
SUMMARY:Volle Maan Parasieten Detox – 10 dagen loslaten & helderheid
DESCRIPTION:Volle Maan Parasieten Detox – 10 dagen loslaten & helderheid \nVoel je dat je hoofd vol zit? Dat je gedachten blijven draaien en je verlangt naar rust\, overzicht en lichtheid?\nDe Volle Maan in Tweeling nodigt je uit om je hoofd leeg te maken\, je energie te verfrissen en ruimte te scheppen voor nieuwe inzichten. \nDinsdag 2 december t/m donderdag 12 december 2025\nVolle Maan in Tweeling\nThema: Loslaten van mentale ruis\, overdenken en onrust. Ruimte maken voor helderheid\, inspiratie en innerlijke rust. \nTijdens deze 10-daagse ontvang je:\n• Frequenties op afstand die jouw lichaam en energieveld ondersteunen: detox\, zenuwstelselbalans\, Cell Salts\, immuunboost\n• Persoonlijk muziekfragment\, afgestemd op jouw energie\, nadat ik jouw stemopname heb ontvangen\n• E-book vol praktische tips\, essentiële olie-inspiratie\, affirmaties en mini-rituelen \nAlles wat loskomt mag er zijn. Jij bepaalt zelf hoe actief je meedoet – de scans werken op afstand\, of je nu bewust meedoet of het rustig over je heen laat komen. Beide is helemaal prima. \nZodra je je aanmeldt\, stuur ik je een berichtje met uitleg over de informatie die ik nodig heb voor jouw scan. Zodra ik deze heb\, ontvang je jouw persoonlijke muziekfragment en start ik met het sturen van de frequenties. Zo kun jij direct aan de slag met jouw proces van loslaten en helder worden. \nIk kijk ernaar uit om deze Detox samen met jou te beleven.\nGun jezelf deze tijd om je hoofd leeg te maken\, te ontspannen en het jaar af te sluiten met rust en helderheid. \nLiefs\,\nCindy 🌸 \n\n\n\n\n\n\np.s. aanmelden kan via deze link
URL:https://realisayou.nl/agenda/volle-maan-parasieten-detox/
LOCATION:online
CATEGORIES:frequenties,Volle maan
ATTACH;FMTTYPE=image/png:https://realisayou.nl/wp-content/uploads/2025/10/Scherm­afbeelding-2025-10-07-om-15.15.27.png
END:VEVENT
BEGIN:VEVENT
DTSTART;TZID=Europe/Amsterdam:20251211T193000
DTEND;TZID=Europe/Amsterdam:20251211T210000
DTSTAMP:20260423T020427
CREATED:20251118T223831Z
LAST-MODIFIED:20251118T223831Z
UID:1349-1765481400-1765486800@realisayou.nl
SUMMARY:De kracht van de Natuur
DESCRIPTION:Webinar: Ben je benieuwd naar essentiële oliën maar weet je niet waar te beginnen \nDonderdag 11 december geven we een webinar waarin we je kennis laten maken met essentiële oliën.\nWe  laten je zien: Waarvoor je deze oliën kunt inzetten – voor jezelf\, je gezin én je huis\nHoe je ze veilig gebruikt (ook met kinderen of dieren in huis)\nHoe jij zelf laagdrempelig kunt starten – met persoonlijke begeleiding én alle tools\nEn…\nBeperkt aantal plekken per workshop!\nDus meld je snel aan! \nAanmelden kan hier. \nIk werk samen met Wendy van ‘essentiële oliën en meer’ zij zal dit webinar organiseren. Bij aanmelden graag even vermelden dat je via mij ‘Cindy B’ komt. \nVeel plezier! \nLiefs Cindy 🌸
URL:https://realisayou.nl/agenda/de-kracht-van-de-natuur-2/
LOCATION:online
CATEGORIES:Basis workshop,Low Tox Lifestyle,Online
ATTACH;FMTTYPE=image/png:https://realisayou.nl/wp-content/uploads/2025/04/Scherm­afbeelding-2025-04-04-om-10.23.23.png
END:VEVENT
BEGIN:VEVENT
DTSTART;TZID=Europe/Amsterdam:20251216T193000
DTEND;TZID=Europe/Amsterdam:20251216T210000
DTSTAMP:20260423T020427
CREATED:20251020T201157Z
LAST-MODIFIED:20251020T201157Z
UID:1354-1765913400-1765918800@realisayou.nl
SUMMARY:Essentiële oliën voor honden - vuurwerkeditie!
DESCRIPTION:Gratis Webinar: Essentiële oliën voor honden\, de vuurwerk editie! \nIn deze webinar leer je hoe je essentiële oliën op een veilige en effectieve manier kunt gebruiken om jouw hond te ondersteunen. We bespreken welke oliën geschikt zijn\, hoe je ze toepast en wat een verantwoorde dosering is. \nIk werk samen met Wendy van Essentiële Olie en Meer\, en dit webinar wordt via haar georganiseerd. Na aanmelding ontvang je de link via WhatsApp\, dus zorg ervoor dat je je mobiele nummer doorgeeft. Vermeld daarbij ook mijn naam\, Cindy B.\, zodat Wendy weet dat je via mij komt. \nWil je meedoen? Meld je aan en ontdek hoe essentiële oliën een waardevolle aanvulling kunnen zijn voor de gezondheid en het welzijn van je hond.
URL:https://realisayou.nl/agenda/essentiele-olien-voor-honden-vuurwerkeditie-2/
LOCATION:online
CATEGORIES:Dieren,Online
ATTACH;FMTTYPE=image/png:https://realisayou.nl/wp-content/uploads/2025/03/Scherm­afbeelding-2025-03-22-om-14.48.19.png
END:VEVENT
BEGIN:VEVENT
DTSTART;TZID=Europe/Amsterdam:20251219T100000
DTEND;TZID=Europe/Amsterdam:20251219T113000
DTSTAMP:20260423T020427
CREATED:20251020T200009Z
LAST-MODIFIED:20251128T212412Z
UID:1355-1766138400-1766143800@realisayou.nl
SUMMARY:Olie\, Koffie & Klets – Inloopochtend
DESCRIPTION:Olie\, Koffie & Klets – Inloopochtend \nVrijdag 19 december van 10.00 – 11.30 uur ben je van harte welkom dit keer in Beverwijk voor een gezellig en inspirerend team only moment. \nWat kun je verwachten?\nAlle oliën ruiken en ervaren (misschien heb je er een paar op je lijstje die je eerst wilt proberen)\nEen kopje koffie of thee + proeven van o.a. vmg+\, MetaPWR Advantage en elektrolyten\nHandmassage leren met de AromaTouch techniek\nWe hebben ook diverse kaartendecks om gezellig een kaart te trekken.\nJe vragen kunnen stellen\nEn natuurlijk fijn samen zijn met andere “oliefreaks” \nWil je iemand meenemen die nog niet in ons team zit? Die is van harte welkom!\nEn extra leuk: gasten die zelf nog geen oliën hebben\, krijgen 4 gratis olie-samples mee naar huis om te testen\, mét filmpjes en een opname van het basiswebinar. \nOm 11.30 uur zwaai ik iedereen weer uit\, want ik moet daarna door naar een afspraak. \nIk kijk ernaar uit om jullie te zien! \nAanmelden kan hier.  \nTot snuffels! \nCindy
URL:https://realisayou.nl/agenda/olie-koffie-klets-inloopochtend-3/
LOCATION:Beverwijk
CATEGORIES:Low Tox Lifestyle,Op locatie
ATTACH;FMTTYPE=image/png:https://realisayou.nl/wp-content/uploads/2025/10/Scherm­afbeelding-2025-11-26-om-20.52.24.png
END:VEVENT
BEGIN:VEVENT
DTSTART;TZID=Europe/Amsterdam:20251223T193000
DTEND;TZID=Europe/Amsterdam:20251223T210000
DTSTAMP:20260423T020427
CREATED:20251020T194452Z
LAST-MODIFIED:20251020T194452Z
UID:1352-1766518200-1766523600@realisayou.nl
SUMMARY:Essentiële oliën voor paarden
DESCRIPTION:GRATIS WEBINAR paarden en essentiële oliën. \nWat kun je verwachten? \n\nwat zijn essentiële oliën?\nwaarom dōTERRA\nveiligheid en kracht\nhoe kun je ze bij je paard inzetten?\nveelvoorkomende klachten bij paarden + olie\ngeurtest\naroma wellness behandeling\nachteraf wordt een olie verloot onder de deelnemers\n\nLijkt het je leuk om ook te leren hoe je zeer effectief je paard in zijn gezondheid kunt ondersteunen? \nWil je meedoen? Meld je aan en ontdek hoe essentiële oliën een waardevolle aanvulling kunnen zijn voor de gezondheid en het welzijn van je paard. \nIk werk samen met Wendy Draaijer\, en dit webinar wordt via haar georganiseerd. Na aanmelding ontvang je de link via WhatsApp\, dus zorg ervoor dat je je mobiele nummer doorgeeft.\nBij aanmelden even aangeven dat je via mij komt “Cindy B.”
URL:https://realisayou.nl/agenda/essentiele-olien-voor-paarden-8/
LOCATION:online
CATEGORIES:Dieren,Online
ATTACH;FMTTYPE=image/png:https://realisayou.nl/wp-content/uploads/2025/04/Scherm­afbeelding-2025-04-04-om-11.26.33.png
END:VEVENT
END:VCALENDAR