BEGIN:VCALENDAR
VERSION:2.0
PRODID:-//ReaLisa You - ECPv6.15.20//NONSGML v1.0//EN
CALSCALE:GREGORIAN
METHOD:PUBLISH
X-ORIGINAL-URL:https://realisayou.nl
X-WR-CALDESC:Evenementen voor ReaLisa You
REFRESH-INTERVAL;VALUE=DURATION:PT1H
X-Robots-Tag:noindex
X-PUBLISHED-TTL:PT1H
BEGIN:VTIMEZONE
TZID:Europe/Amsterdam
BEGIN:DAYLIGHT
TZOFFSETFROM:+0100
TZOFFSETTO:+0200
TZNAME:CEST
DTSTART:20240331T010000
END:DAYLIGHT
BEGIN:STANDARD
TZOFFSETFROM:+0200
TZOFFSETTO:+0100
TZNAME:CET
DTSTART:20241027T010000
END:STANDARD
BEGIN:DAYLIGHT
TZOFFSETFROM:+0100
TZOFFSETTO:+0200
TZNAME:CEST
DTSTART:20250330T010000
END:DAYLIGHT
BEGIN:STANDARD
TZOFFSETFROM:+0200
TZOFFSETTO:+0100
TZNAME:CET
DTSTART:20251026T010000
END:STANDARD
BEGIN:DAYLIGHT
TZOFFSETFROM:+0100
TZOFFSETTO:+0200
TZNAME:CEST
DTSTART:20260329T010000
END:DAYLIGHT
BEGIN:STANDARD
TZOFFSETFROM:+0200
TZOFFSETTO:+0100
TZNAME:CET
DTSTART:20261025T010000
END:STANDARD
END:VTIMEZONE
BEGIN:VEVENT
DTSTART;TZID=Europe/Amsterdam:20251101T193000
DTEND;TZID=Europe/Amsterdam:20251101T203000
DTSTAMP:20260423T050218
CREATED:20251101T151914Z
LAST-MODIFIED:20251101T151914Z
UID:1564-1762025400-1762029000@realisayou.nl
SUMMARY:Oil Talk November
DESCRIPTION:In deze Live praten Wendy en ik over de nieuwste oliën\, producten en acties van deze maand! Kom alles te weten over speciale kortingen en hoe je gratis producten kunt scoren.\nZet de datum in je agenda en laat je inspireren!\nJe kunt ons live volgen via de Facebook pagina ReaLisa You en later zal ik de video ook op mijn YouTube kanaal plaatsen mocht je live niet  aanwezig kunnen zijn.\nLeuk als je ook komt luisteren! \nLiefs\,\nWendy & Cindy
URL:https://realisayou.nl/agenda/oil-talk-november/
LOCATION:online
ATTACH;FMTTYPE=image/webp:https://realisayou.nl/wp-content/uploads/2025/05/Scherm_afbeelding-2025-02-20-om-11.51.22-1.webp
END:VEVENT
BEGIN:VEVENT
DTSTART;VALUE=DATE:20251103
DTEND;VALUE=DATE:20251113
DTSTAMP:20260423T050218
CREATED:20251007T135403Z
LAST-MODIFIED:20251007T143620Z
UID:1209-1762128000-1762991999@realisayou.nl
SUMMARY:Volle Maan Detox – 10 dagen loslaten & aarden
DESCRIPTION:Volle Maan Detox – 10 dagen loslaten & opladen 🌕 \nVoel je dat het tijd is om weer terug te keren naar rust\, stabiliteit en innerlijke balans?\nDe Volle Maan in Stier helpt je om los te laten wat niet langer voedend is\, zodat je lichaam én energieveld weer stevig gegrond raken. \nMaandag 3 november t/m woensdag 12 november 2025\nVolle Maan in Stier\nThema: Loslaten van spanning en overprikkeling\, terugkeren naar rust\, stabiliteit en vertrouwen in jezelf. \nTijdens deze 10-daagse Volle Maan Detox ontvang je:\n• Frequenties op afstand die jouw lichaam en energieveld ondersteunen: detox\, heavy metal reiniging\, Cell Salts en een immuunboost\n• Persoonlijk muziekfragment\, afgestemd op jouw energie\, nadat ik jouw stemopname heb ontvangen\n• E-book vol praktische tips\, essentiële olie-inspiratie\, affirmaties en mini-rituelen \nAlles wat loskomt mag er zijn. Jij bepaalt zelf hoe actief je meedoet – de scans werken op afstand\, of je nu bewust meedoet of het rustig over je heen laat komen. Beide is helemaal prima. Niets moet! \nZodra je je aanmeldt\, stuur ik je een berichtje met uitleg over de informatie die ik nodig heb voor jouw scan. Zodra ik deze heb\, ontvang je jouw persoonlijke muziekfragment en start ik meteen met het sturen van de frequenties. Zo kun jij direct aan de slag met jouw proces van loslaten en aarden. \nIk kijk ernaar uit om deze Volle Maan Detox samen met jou te beleven. \nGun jezelf deze tijd om te vertragen\, los te laten en volledig in je eigen kracht te komen. \nLiefs\,\nCindy 🌸 \n\n\np.s. aanmelden kan via deze link
URL:https://realisayou.nl/agenda/volle-maan-detox-10-dagen-loslaten-aarden/
LOCATION:online
CATEGORIES:frequenties,Volle maan
ATTACH;FMTTYPE=image/png:https://realisayou.nl/wp-content/uploads/2025/10/Scherm­afbeelding-2025-10-07-om-15.15.27.png
END:VEVENT
BEGIN:VEVENT
DTSTART;TZID=Europe/Amsterdam:20251104T193000
DTEND;TZID=Europe/Amsterdam:20251104T210000
DTSTAMP:20260423T050218
CREATED:20251020T172906Z
LAST-MODIFIED:20251101T155321Z
UID:1338-1762284600-1762290000@realisayou.nl
SUMMARY:Voorbereid de winter in
DESCRIPTION:Tijdens dit webinar leer je hoe je jezelf\, je gezin én je dieren op een natuurlijke manier kunt ondersteunen in de koudere seizoenen.\nWe bespreken welke essentiële oliën onmisbaar zijn in je natuurlijke thuisapotheek\, hoe je ze veilig gebruikt en hoe je een dagelijkse routine kunt opbouwen om weerstand\, ontspanning en balans te versterken. \nJe krijgt praktische tips\, recepten en toepassingen waarmee je direct aan de slag kunt.\nNa afloop weet je precies hoe je goed voorbereid de herfst en winter doorkomt — op een pure\, natuurlijke en eenvoudige manier. \nAanmelden kan hier. \nIk werk samen met Wendy van ‘essentiële oliën en meer’ zij zal dit webinar organiseren. Bij aanmelden graag even vermelden dat je via mij ‘Cindy B’ komt. \nVeel plezier! \nLiefs Cindy 🌸
URL:https://realisayou.nl/agenda/voorbereid-de-winter-in/
LOCATION:online
CATEGORIES:Basis workshop,Low Tox Lifestyle,Online
ATTACH;FMTTYPE=image/png:https://realisayou.nl/wp-content/uploads/2025/04/Scherm­afbeelding-2025-04-04-om-10.23.23.png
END:VEVENT
BEGIN:VEVENT
DTSTART;TZID=Europe/Amsterdam:20251109T120000
DTEND;TZID=Europe/Amsterdam:20251109T170000
DTSTAMP:20260423T050218
CREATED:20250910T124020Z
LAST-MODIFIED:20250930T074827Z
UID:1089-1762689600-1762707600@realisayou.nl
SUMMARY:AromaTouch Techniek
DESCRIPTION:AromaTouch™ Certificatie Training – Leer de techniek in één dag \nWil jij leren hoe je deze bijzondere techniek kunt toepassen? Tijdens de AromaTouch™ Certificatie Training leer je stap voor stap hoe je deze ontspannende en helende methode op de juiste manier uitvoert. \nOnze training bestaat uit twee delen: \nTheorie (online) – Je leert over de achtergrond van de AromaTouch™ Techniek\, de werking van de oliën en de impact op het zenuwstelsel. \nPraktijk (op locatie in een kleine groep) – Onder deskundige begeleiding leer je de techniek toe te passen en ervaar je zelf de werking. \nWat kun je verwachten van de training? \n✔ Een unieke en effectieve techniek leren die zowel ontspannend als krachtig is.\n✔ Direct toepasbaar na certificering\, voor privégebruik of als aanvulling op je praktijk.\n✔ Persoonlijke begeleiding door ervaren trainers in een prettige en veilige leeromgeving.\n✔ Een AromaTouch Kit met 8 essentiële oliën om direct mee aan de slag te gaan.\n✔ Een officieel AromaTouch™ certificaat van doTERRA na afronding van de training. \nVoor wie is de AromaTouch™ Training? \nDeze training is geschikt voor iedereen\, ongeacht ervaring. Je hebt geen vooropleiding nodig om deel te nemen. De techniek is ideaal voor: \n✔Wellness professionals zoals masseurs\, fysiotherapeuten en aromatherapeuten.\n✔Sporters\, trainers en therapeuten die een extra techniek willen toevoegen aan hun diensten.\n✔ Mensen die essentiële oliën willen leren toepassen binnen hun gezin of vriendenkring. \nDe kosten:\n– € 150\,- incl. 8 flesjes essentiële oliën van 5 ml per stuk\n– € 289\,- incl. 8 flesjes essentiële olien van 15 ml per stuk + 115 ml kokosolie (alleen te bestellen wanneer je nog geen doterra kortingsaccount hebt.) \nDeze AromaTouch training wordt gegeven onderleiding van mijn collega Wendy Draaijer. \nIk meld mij graag aan via deze link\nMeld bij de aanmelding dat je via “Cindy B”  komt.
URL:https://realisayou.nl/agenda/aromatouch-techniek-11/
LOCATION:Sportcentrum Wu Da\, Balistraat 4\, 2022 XZ
CATEGORIES:AromaTouch Techniek
ATTACH;FMTTYPE=image/png:https://realisayou.nl/wp-content/uploads/2025/04/Scherm­afbeelding-2025-04-01-om-17.31.26.png
END:VEVENT
BEGIN:VEVENT
DTSTART;TZID=Europe/Amsterdam:20251112T193000
DTEND;TZID=Europe/Amsterdam:20251112T210000
DTSTAMP:20260423T050218
CREATED:20251020T092351Z
LAST-MODIFIED:20251020T191340Z
UID:1331-1762975800-1762981200@realisayou.nl
SUMMARY:Workshop: Overvloed
DESCRIPTION:Workshop: Overvloed \nDe winter is in aantocht — hét moment om stil te staan bij wat je mag ontvangen.\nTijdens onze online workshop “Overvloed” op 12 november om 19.30 uur nemen we je mee in een interactieve beleving met oliën\, acupressuurpunten\, affirmaties en frequenties. \nJe gaat dus niet alleen luisteren\, maar echt zelf aan de slag – voelen\, ervaren en toepassen. \nOm volop mee te kunnen doen\, is het belangrijk dat je de volgende oliën in huis hebt: Wild Orange\, Frankincense\, Bergamot\, Patchouli en Cinnamon.\nAllemaal krachtig ondersteunend bij het thema Overvloed\, vertrouwen en ontvangen. \n==> Ben jij lid van Essentiële Oliën en Meer en heb je de oliën in huis?\nDan kun je gratis meedoen! \n==> Heb je de oliën nog niet?\nGeen zorgen! Je kunt een handig sample-pakketje bij ons aanvragen zodat je toch helemaal mee kunt doen. \nGun jezelf dit moment om te openen\, te ontvangen en de energie van overvloed te laten stromen. ✨\nHopelijk zie ik je 12 november! \nGeef aub ook je juiste telefoonnummer op anders kan het zijn dat je informatie mist voor de workshop! \nAanmelden kan hier! \nLiefs\,\nCindy \np.s.De oliën die we gebruiken tijdens deze workshop zijn: Wild Orange\, Frankincense\, Bergamot\, Patchouli en Cinnamon.\nZo kun je alvast even kijken welk ticket bij jou past of nog net die ene olie aanschaffen.
URL:https://realisayou.nl/agenda/workshop-overvloed/
LOCATION:online
CATEGORIES:Online
ATTACH;FMTTYPE=image/png:https://realisayou.nl/wp-content/uploads/2025/10/Scherm­afbeelding-2025-10-20-om-21.04.06.png
END:VEVENT
BEGIN:VEVENT
DTSTART;TZID=Europe/Amsterdam:20251112T193000
DTEND;TZID=Europe/Amsterdam:20251112T210000
DTSTAMP:20260423T050218
CREATED:20251020T173652Z
LAST-MODIFIED:20251020T173746Z
UID:1340-1762975800-1762981200@realisayou.nl
SUMMARY:Essentiële oliën voor honden - vuurwerkeditie!
DESCRIPTION:Gratis Webinar: Essentiële oliën voor honden\, de vuurwerk editie! \nIn deze webinar leer je hoe je essentiële oliën op een veilige en effectieve manier kunt gebruiken om jouw hond te ondersteunen. We bespreken welke oliën geschikt zijn\, hoe je ze toepast en wat een verantwoorde dosering is. \nIk werk samen met Wendy van Essentiële Olie en Meer\, en dit webinar wordt via haar georganiseerd. Na aanmelding ontvang je de link via WhatsApp\, dus zorg ervoor dat je je mobiele nummer doorgeeft. Vermeld daarbij ook mijn naam\, Cindy B.\, zodat Wendy weet dat je via mij komt. \nWil je meedoen? Meld je aan en ontdek hoe essentiële oliën een waardevolle aanvulling kunnen zijn voor de gezondheid en het welzijn van je hond.
URL:https://realisayou.nl/agenda/essentiele-olien-voor-honden-vuurwerkeditie/
LOCATION:online
CATEGORIES:Dieren,Online
ATTACH;FMTTYPE=image/png:https://realisayou.nl/wp-content/uploads/2025/03/Scherm­afbeelding-2025-03-22-om-14.48.19.png
END:VEVENT
BEGIN:VEVENT
DTSTART;VALUE=DATE:20251118
DTEND;VALUE=DATE:20251128
DTSTAMP:20260423T050218
CREATED:20251007T153152Z
LAST-MODIFIED:20251007T153152Z
UID:1220-1763424000-1764287999@realisayou.nl
SUMMARY:Nieuwe Maan Reset – 10 dagen in balans & vernieuwing
DESCRIPTION:🌑 Nieuwe Maan Reset – 10 dagen in balans & vernieuwing\nVoel je dat het tijd is om opnieuw te beginnen — met meer rust\, helderheid en balans in jezelf? \nDe Nieuwe Maan in Schorpioen nodigt je uit om stil te worden\, diep te ademen\, en bewust te kiezen welke energie je komende weken wilt voeden. \nEen zachte herstart voor lichaam\, geest en ziel. 🌸 \n🗓 Dinsdag 18 november t/m 27 november 2025 \n🌑 Nieuwe Maan in Schorpioen \nThema: innerlijke balans\, zelfliefde\, transformatie en ruimte creëren voor nieuwe intenties. \nTijdens deze 10-daagse Nieuwe Maan Reset ontvang je: \n• 🌿 Frequenties op afstand die jouw systeem helpen resetten en in balans brengen: detox\, inner peace\, new beginnings\, heart balance & clarity \n• 🎧 Persoonlijk muziekfragment\, afgestemd op jouw energie (na ontvangst van je stemopname) \n• 📘 E-book vol inspiratie\, reflectievragen\, mini-rituelen en essentiële olie-tips die passen bij de energie van de nieuwe maan \n✨ Deze periode draait om vertraging en afstemming. \nJe hoeft niets te forceren — laat de frequenties hun werk doen\, terwijl jij zacht meebeweegt met de natuurlijke cyclus van vernieuwing. \nNa je aanmelding ontvang je van mij een berichtje met wat ik nodig heb voor jouw persoonlijke scan. Zodra ik jouw stemopname heb ontvangen\, start ik meteen met het sturen van de frequenties en krijg jij jouw muziekfragment toegestuurd. 🌿 \n\nIk kijk ernaar uit om samen met jou deze Nieuwe Maan Reset te beleven 🌑 \nGun jezelf dit moment om stil te staan\, te ademen en je opnieuw te verbinden met jouw natuurlijke flow. \nLiefs\, \nCindy 🌸 \n\n\n\n\n\np.s. aanmelden kan via deze link
URL:https://realisayou.nl/agenda/nieuwe-maan-reset-10-dagen-in-balans-vernieuwing/
LOCATION:online
CATEGORIES:frequenties,Nieuwe Maan,Online
ATTACH;FMTTYPE=image/png:https://realisayou.nl/wp-content/uploads/2025/10/Scherm­afbeelding-2025-10-07-om-16.50.10.png
END:VEVENT
BEGIN:VEVENT
DTSTART;TZID=Europe/Amsterdam:20251118T193000
DTEND;TZID=Europe/Amsterdam:20251118T210000
DTSTAMP:20260423T050218
CREATED:20251020T175316Z
LAST-MODIFIED:20251020T175417Z
UID:1341-1763494200-1763499600@realisayou.nl
SUMMARY:Essentiële oliën voor paarden
DESCRIPTION:GRATIS WEBINAR paarden en essentiële oliën. \nWat kun je verwachten? \n\nwat zijn essentiële oliën?\nwaarom dōTERRA\nveiligheid en kracht\nhoe kun je ze bij je paard inzetten?\nveelvoorkomende klachten bij paarden + olie\ngeurtest\naroma wellness behandeling\nachteraf wordt een olie verloot onder de deelnemers\n\nLijkt het je leuk om ook te leren hoe je zeer effectief je paard in zijn gezondheid kunt ondersteunen? \nWil je meedoen? Meld je aan en ontdek hoe essentiële oliën een waardevolle aanvulling kunnen zijn voor de gezondheid en het welzijn van je paard. \nIk werk samen met Wendy Draaijer\, en dit webinar wordt via haar georganiseerd. Na aanmelding ontvang je de link via WhatsApp\, dus zorg ervoor dat je je mobiele nummer doorgeeft.\nBij aanmelden even aangeven dat je via mij komt “Cindy B.”
URL:https://realisayou.nl/agenda/essentiele-olien-voor-paarden-7/
LOCATION:online
CATEGORIES:Dieren,Online
ATTACH;FMTTYPE=image/png:https://realisayou.nl/wp-content/uploads/2025/04/Scherm­afbeelding-2025-04-04-om-11.26.33.png
END:VEVENT
BEGIN:VEVENT
DTSTART;TZID=Europe/Amsterdam:20251119T100000
DTEND;TZID=Europe/Amsterdam:20251119T113000
DTSTAMP:20260423T050218
CREATED:20251020T174434Z
LAST-MODIFIED:20251128T185221Z
UID:1342-1763546400-1763551800@realisayou.nl
SUMMARY:Olie\, Koffie & Klets – Inloopochtend
DESCRIPTION:Olie\, Koffie & Klets – Inloopochtend \nWoensdag 19 november van 10.00 – 11.30 uur ben je van harte welkom bij mij thuis voor een gezellig en inspirerend team only moment. \nWat kun je verwachten?\nAlle oliën ruiken en ervaren (misschien heb je er een paar op je lijstje die je eerst wilt proberen)\nSnuffelen tussen diffusersieraden\, cardiffusers en boeken\nEen kopje koffie of thee + proeven van o.a. vmg+\, MetaPWR Advantage en elektrolyten\nHandmassage leren met de AromaTouch techniek\nJe vragen aan mij stellen\nEn natuurlijk fijn samen zijn met andere “oliefreaks” \nWil je iemand meenemen die nog niet in ons team zit? Die is van harte welkom!\nEn extra leuk: gasten die zelf nog geen oliën hebben\, krijgen 4 gratis olie-samples mee naar huis om te testen\, mét filmpjes en een opname van het basiswebinar. \nOm 11.30 uur zwaai ik iedereen weer uit\, want ik moet daarna door naar een afspraak. \nIk kijk ernaar uit om jullie te zien! \nAanmelden kan hier.  \nTot snuffels! \nCindy \nP.s.  Ook is er een inloop ochtend in bij Wendy. Mocht dit beter uitkomen dan ben je van harte welkom moor naar Apeldoorn te gaan. Meld je voor Apeldoorn hier aan. 
URL:https://realisayou.nl/agenda/olie-koffie-klets-inloopochtend-2/
LOCATION:Middelie
CATEGORIES:Low Tox Lifestyle,Op locatie
ATTACH;FMTTYPE=image/png:https://realisayou.nl/wp-content/uploads/2025/10/Scherm­afbeelding-2025-11-26-om-20.52.24.png
END:VEVENT
BEGIN:VEVENT
DTSTART;TZID=Europe/Amsterdam:20251123T100000
DTEND;TZID=Europe/Amsterdam:20251123T140000
DTSTAMP:20260423T050218
CREATED:20250711T114259Z
LAST-MODIFIED:20250925T211845Z
UID:824-1763892000-1763906400@realisayou.nl
SUMMARY:AromaTouch Techniek training
DESCRIPTION:AromaTouch™ Certificatie Training – Leer de techniek in één dag \nWil jij leren hoe je deze bijzondere techniek kunt toepassen? Tijdens de AromaTouch™ Certificatie Training leer je stap voor stap hoe je deze ontspannende en helende methode op de juiste manier uitvoert. \nOnze training bestaat uit twee delen: \nTheorie (online) – Je leert over de achtergrond van de AromaTouch™ Techniek\, de werking van de oliën en de impact op het zenuwstelsel. \nPraktijk (op locatie in een kleine groep) – Onder deskundige begeleiding leer je de techniek toe te passen en ervaar je zelf de werking. \nWat kun je verwachten van de training? \n✔ Een unieke en effectieve techniek leren die zowel ontspannend als krachtig is.\n✔ Direct toepasbaar na certificering\, voor privégebruik of als aanvulling op je praktijk.\n✔ Persoonlijke begeleiding door ervaren trainers in een prettige en veilige leeromgeving.\n✔ Een AromaTouch Kit met 8 essentiële oliën om direct mee aan de slag te gaan.\n✔ Een officieel AromaTouch™ certificaat van doTERRA na afronding van de training. \nVoor wie is de AromaTouch™ Training? \nDeze training is geschikt voor iedereen\, ongeacht ervaring. Je hebt geen vooropleiding nodig om deel te nemen. De techniek is ideaal voor: \n✔Wellness professionals zoals masseurs\, fysiotherapeuten en aromatherapeuten.\n✔Sporters\, trainers en therapeuten die een extra techniek willen toevoegen aan hun diensten.\n✔ Mensen die essentiële oliën willen leren toepassen binnen hun gezin of vriendenkring. \nDe kosten:\n– € 150\,- incl. 8 flesjes essentiële oliën van 5 ml per stuk\n– € 289\,- incl. 8 flesjes essentiële olien van 15 ml per stuk + 115 ml kokosolie (alleen te bestellen wanneer je nog geen doterra kortingsaccount hebt.) \nDeze AromaTouch training wordt gegeven onderleiding van mijn collega Wendy Draaijer. \nIk meld mij graag aan via deze link\nMeld bij de aanmelding dat je via “Cindy B”  komt.
URL:https://realisayou.nl/agenda/aromatouch-techniek-10/
LOCATION:Apeldoorn
CATEGORIES:AromaTouch Techniek,massage
ATTACH;FMTTYPE=image/png:https://realisayou.nl/wp-content/uploads/2025/04/Scherm­afbeelding-2025-04-01-om-17.31.26.png
END:VEVENT
BEGIN:VEVENT
DTSTART;VALUE=DATE:20251124
DTEND;VALUE=DATE:20251128
DTSTAMP:20260423T050218
CREATED:20251118T221432Z
LAST-MODIFIED:20251118T223159Z
UID:1643-1763942400-1764287999@realisayou.nl
SUMMARY:Webinar Expert talk - oilcamp
DESCRIPTION:De kracht van essentiële oliën: Emoties in balans\nWat gebeurt er als je 2 essentiële olie “freaks”laat samenwerken? Dan krijg je echt een super programma!\nvanaf maandag 24 november t/m donderdag 27 november zullen wij in een besloten appgroep zonder prikkels elke dag een video delen\, hand-out delen en een toffe Quiz. \nWe sluiten af met een tof leerzaam webinar op donderdag 27 november om 20.00 uur.\nHier wil je ECHT bij zijn! Dit webinar doen we eenmalig. \nDit webinar wordt gegeven Léanne van Helio & Wendy van Essentiële olie en Meer waar ik mee samenwerk. \nBij aanmelden aub ook aangeven dat je via mij ‘Cindy B’ komt.\nHier kun je je aanmelden \nHeel veel plezier! \nLiefs Cindy
URL:https://realisayou.nl/agenda/webinar-expert-talk-4/
LOCATION:online
CATEGORIES:Low Tox Lifestyle,Online
END:VEVENT
BEGIN:VEVENT
DTSTART;TZID=Europe/Amsterdam:20251127T200000
DTEND;TZID=Europe/Amsterdam:20251127T213000
DTSTAMP:20260423T050218
CREATED:20251118T222956Z
LAST-MODIFIED:20251118T223056Z
UID:1647-1764273600-1764279000@realisayou.nl
SUMMARY:Webinar Expert talk - webinar
DESCRIPTION:De kracht van essentiële oliën: Emoties in balans\nWat gebeurt er als je 2 essentiële olie “freaks”laat samenwerken? Dan krijg je echt een super programma!\nvanaf maandag 24 november t/m donderdag 27 november zullen wij in een besloten appgroep zonder prikkels elke dag een video delen\, hand-out delen en een toffe Quiz. \nWe sluiten af met een tof leerzaam webinar op donderdag 27 november om 20.00 uur.\nHier wil je ECHT bij zijn! Dit webinar doen we eenmalig. \nDit webinar wordt gegeven Léanne van Helio & Wendy van Essentiële olie en Meer waar ik mee samenwerk. \nBij aanmelden aub ook aangeven dat je via mij ‘Cindy B’ komt.\nHier kun je je aanmelden \nHeel veel plezier! \nLiefs Cindy
URL:https://realisayou.nl/agenda/webinar-expert-talk-webinar/
LOCATION:online
CATEGORIES:Low Tox Lifestyle,Online
END:VEVENT
END:VCALENDAR