BEGIN:VCALENDAR
VERSION:2.0
PRODID:-//ReaLisa You - ECPv6.15.20//NONSGML v1.0//EN
CALSCALE:GREGORIAN
METHOD:PUBLISH
X-WR-CALNAME:ReaLisa You
X-ORIGINAL-URL:https://realisayou.nl
X-WR-CALDESC:Evenementen voor ReaLisa You
REFRESH-INTERVAL;VALUE=DURATION:PT1H
X-Robots-Tag:noindex
X-PUBLISHED-TTL:PT1H
BEGIN:VTIMEZONE
TZID:Europe/Amsterdam
BEGIN:DAYLIGHT
TZOFFSETFROM:+0100
TZOFFSETTO:+0200
TZNAME:CEST
DTSTART:20240331T010000
END:DAYLIGHT
BEGIN:STANDARD
TZOFFSETFROM:+0200
TZOFFSETTO:+0100
TZNAME:CET
DTSTART:20241027T010000
END:STANDARD
BEGIN:DAYLIGHT
TZOFFSETFROM:+0100
TZOFFSETTO:+0200
TZNAME:CEST
DTSTART:20250330T010000
END:DAYLIGHT
BEGIN:STANDARD
TZOFFSETFROM:+0200
TZOFFSETTO:+0100
TZNAME:CET
DTSTART:20251026T010000
END:STANDARD
BEGIN:DAYLIGHT
TZOFFSETFROM:+0100
TZOFFSETTO:+0200
TZNAME:CEST
DTSTART:20260329T010000
END:DAYLIGHT
BEGIN:STANDARD
TZOFFSETFROM:+0200
TZOFFSETTO:+0100
TZNAME:CET
DTSTART:20261025T010000
END:STANDARD
END:VTIMEZONE
BEGIN:VEVENT
DTSTART;TZID=Europe/Amsterdam:20250901T193000
DTEND;TZID=Europe/Amsterdam:20250901T203000
DTSTAMP:20260423T172327
CREATED:20250804T100957Z
LAST-MODIFIED:20250804T101632Z
UID:896-1756755000-1756758600@realisayou.nl
SUMMARY:Oil Talk September
DESCRIPTION:In deze Live praten Wendy en ik over de nieuwste oliën\, producten en acties van deze maand! Kom alles te weten over speciale kortingen en hoe je gratis producten kunt scoren.\nZet de datum in je agenda en laat je inspireren!\nJe kunt ons live volgen via de Facebook pagina ReaLisa You en later zal ik de video ook op mijn YouTube kanaal plaatsen mocht je live niet  aanwezig kunnen zijn.\nLeuk als je ook komt luisteren! \nLiefs\,\nWendy & Cindy
URL:https://realisayou.nl/agenda/oil-talk-augustus/
LOCATION:online
ATTACH;FMTTYPE=image/webp:https://realisayou.nl/wp-content/uploads/2025/05/Scherm_afbeelding-2025-02-20-om-11.51.22-1.webp
END:VEVENT
BEGIN:VEVENT
DTSTART;VALUE=DATE:20250902
DTEND;VALUE=DATE:20250906
DTSTAMP:20260423T172327
CREATED:20250828T203838Z
LAST-MODIFIED:20250828T203838Z
UID:966-1756771200-1757116799@realisayou.nl
SUMMARY:4 dagen - 4 oliën in challenge
DESCRIPTION:Ben jij klaar voor 4 dagen pure olie-magic?\n\n\n\nVan dinsdag 2 t/m vrijdag 5 augustus  starten we de 4 dagen – 4 oliën challenge – speciaal voor jou als je benieuwd bent wat essentiële oliën écht voor je kunnen doen.\n\n\nIedere dag ontvang je een korte video met uitleg én een moment om de olie zélf te ervaren.\n\nWe werken met deze 4 toppers:\n Lavendel – rust en ontspanning\n Lemon – fris en zuiverend\n Pepermunt – helder en energieboost\n Deep Blue – verzachting voor spieren en gewrichten\n\n\n\nAls kers op de olie-taart sluiten we op dinsdag 9 september  om 19:30 af met een live webinar vol tips\, toepassingen én ruimte voor al jouw vragen!\n\n\n\n Meedoen? Vraag een sample setje aan voor € 5\,- – zolang de voorraad strekt!\n\nAanmelden kan via deze link. \nIk wens je heel veel plezier!\nLiefs Cindy
URL:https://realisayou.nl/agenda/4-dagen-4-olien-challenge-2/
LOCATION:online
CATEGORIES:Low Tox Lifestyle,Online
ATTACH;FMTTYPE=image/jpeg:https://realisayou.nl/wp-content/uploads/2025/07/WhatsApp-Image-2025-06-22-at-21.49.25-1.jpeg
END:VEVENT
BEGIN:VEVENT
DTSTART;VALUE=DATE:20250905
DTEND;VALUE=DATE:20250916
DTSTAMP:20260423T172327
CREATED:20250904T155110Z
LAST-MODIFIED:20250907T213736Z
UID:1062-1757030400-1757980799@realisayou.nl
SUMMARY:Volle Maan Detox – 11 dagen loslaten & opladen 
DESCRIPTION:Volle Maan Detox – 11 dagen loslaten & opladen\n\nVoel je dat het tijd is om los te laten wat jou niet meer dient? Om lichter\, helderder en met nieuwe energie de herfst in te gaan?\n\nVrijdag 5 september t/m maandag 15 september 2025 (Aanmelden mogelijk t/m zondag 7 september)\nVolle Maan in Vissen\nThema: Loslaten wat je niet meer dient\, ruimte maken voor nieuwe energie\, helderheid en balans\n\nTijdens deze 11-daagse Volle Maan Detox:\n\nFrequenties op afstand die jouw lichaam en energieveld ondersteunen: detox\, heavy metal reiniging\, Cell Salts en een immuunboost\nPersoonlijk muziekfragment\, afgestemd op jouw energie\, nadat ik jouw stemopname heb ontvangen\nE-book vol praktische tips\, essentiële olie tips\, affirmaties en mini-rituelen\n\n\nAlles wat loskomt mag er zijn. Jij bepaalt zelf hoe actief je meedoet – de scans werken op afstand\, of je nu bewust meedoet of het rustig over je heen laat komen. Beide is helemaal prima. Niets moet!\n\nZodra je je aanmeldt\, stuur ik je een berichtje met uitleg over de info die ik nodig heb voor jouw scan. Zodra ik deze heb\, ontvang je jouw muziekfragment en start ik meteen met het sturen van de frequenties. Zo kun jij direct aan de slag met jouw persoonlijke proces.\n\nIk kijk ernaar uit om deze Volle Maan Detox samen met jou te beleven! Gun jezelf deze tijd om los te laten\, op te laden en helder de herfst in te stappen.\n\n  Liefs Cindy\n\np.s. aanmelden kan via deze link
URL:https://realisayou.nl/agenda/volle-maan-detox/
CATEGORIES:frequenties,Volle maan
ATTACH;FMTTYPE=image/png:https://realisayou.nl/wp-content/uploads/2025/09/Scherm­afbeelding-2025-09-04-om-17.47.55.png
END:VEVENT
BEGIN:VEVENT
DTSTART;TZID=Europe/Amsterdam:20250909T193000
DTEND;TZID=Europe/Amsterdam:20250909T210000
DTSTAMP:20260423T172327
CREATED:20250804T094114Z
LAST-MODIFIED:20250804T094216Z
UID:886-1757446200-1757451600@realisayou.nl
SUMMARY:Ben je benieuwd naar essentiële oliën maar weet je niet waar te beginnen?
DESCRIPTION:Webinar: Ben je benieuwd naar essentiële oliën maar weet je niet waar te beginnen \nDinsdag 9 september geef ik een korte\, gratis online workshop van waarin ik je kennis laat maken met de vier oliën waar het voor mij allemaal mee begon:\nPepermunt – Lavendel – Lemon – Wild Orange\nIk laat je zien: Waarvoor je deze oliën kunt inzetten – voor jezelf\, je gezin én je huis\nHoe je ze veilig gebruikt (ook met kinderen of dieren in huis)\nHoe jij zelf laagdrempelig kunt starten – met persoonlijke begeleiding én alle tools\nEn…\nIk lanceer mijn nieuwste creatie: de CrazyOilBox en CrazyOilBox XXL\nEen starterspakket vol pure magie – met alles wat je nodig hebt om meteen aan de slag te gaan.\nJe ontvangt o.a.:\n4 essentiële oliën (5ml of 15ml)\nKokosolie\, lege roller\, inhaler\, sample flesjes & veggiecaps\nPocketgids\, receptenboekje & e-book\nVoordeelaccount met 25% korting\nToegang tot mijn team en persoonlijke ondersteuning\nCrazyOilBox: €79 (incl. verzenden)\nCrazyOilBox XXL: €139 (incl. verzenden)\nBeperkt aantal plekken per workshop!\nDus meld je snel aan! \nAanmelden kan hier. \nIk werk samen met Wendy van ‘essentiële oliën en meer’ zij zal dit webinar organiseren. Bij aanmelden graag even vermelden dat je via mij ‘Cindy B’ komt. \nVeel plezier! \nLiefs Cindy 🌸
URL:https://realisayou.nl/agenda/ben-je-benieuwd-naar-essentiele-olien-maar-weet-je-niet-waar-te-beginnen-3/
LOCATION:online
CATEGORIES:Basis workshop,Low Tox Lifestyle,Online
ATTACH;FMTTYPE=image/png:https://realisayou.nl/wp-content/uploads/2025/04/Scherm­afbeelding-2025-04-04-om-10.23.23.png
END:VEVENT
BEGIN:VEVENT
DTSTART;TZID=Europe/Amsterdam:20250910T193000
DTEND;TZID=Europe/Amsterdam:20250910T210000
DTSTAMP:20260423T172327
CREATED:20250822T205955Z
LAST-MODIFIED:20250822T205955Z
UID:927-1757532600-1757538000@realisayou.nl
SUMMARY:I Am Fabulous
DESCRIPTION:I Am Fabulous – Essentiële oliën workshop voor innerlijke kracht en transformatie \nBen je er klaar voor om je innerlijke kracht te herontdekken?\nVoel je dat het tijd is om oude emoties los te laten en ruimte te maken voor zelfliefde\, helderheid en kracht? \nTijdens deze bijzondere I Am Fabulous-workshop\, neem ik je mee op een transformerende reis met essentiële oliën. Je leert een krachtig olieprotocol die je ondersteunt bij het doorbreken van blokkades\, het versterken van je zelfvertrouwen en het openen van je hart. \nWat kun je verwachten:\n•⁠ ⁠Inzicht in de emotionele werking van essentiële oliën\n•⁠ ⁠Een stap-voor-stap protocol om je energie te reinigen en te versterken\n•⁠ ⁠Lichte lichaamsgerichte oefeningen ter ondersteuning van het proces\n•⁠ ⁠Momenten van reflectie\, verbinding en zelfzorg\n•⁠ ⁠Een veilige en liefdevolle setting om helemaal jezelf te zijn \nDeze workshop is perfect voor jou als je:\n•⁠ ⁠Voelt dat er meer in je zit dan er nu uitkomt\n•⁠ ⁠Meer in balans wil zijn – emotioneel\, mentaal én energetisch\n•⁠ ⁠Toe bent aan een krachtige innerlijke reset \nLaat je raken\, openen en herinneren wie je werkelijk bent.\nWant jij… bent fabulous. \nAanmelden via deze link \nLiefs\,\nCindy \np.s.  De oliën die we gaan gebruiken tijdens deze workshop zijn: Bergamot\, Cinnamon\, Cypress\, Douglas Fir\, Fennel\, Ginger\, Grapefruit\, Oregano\, Spearmint\, Tea Tree en de kokosolie. Dan kun je ook beter inschatten welk ticket voor jou van belang is 😉
URL:https://realisayou.nl/agenda/i-am-fabulous/
LOCATION:online
CATEGORIES:I am Fabulous,Online
ATTACH;FMTTYPE=image/png:https://realisayou.nl/wp-content/uploads/2025/08/Scherm­afbeelding-2025-08-22-om-22.57.36.png
END:VEVENT
BEGIN:VEVENT
DTSTART;TZID=Europe/Amsterdam:20250916T193000
DTEND;TZID=Europe/Amsterdam:20250916T210000
DTSTAMP:20260423T172327
CREATED:20250804T094336Z
LAST-MODIFIED:20250804T134000Z
UID:889-1758051000-1758056400@realisayou.nl
SUMMARY:Essentiële oliën voor paarden
DESCRIPTION:GRATIS WEBINAR paarden en essentiële oliën. \nWat kun je verwachten? \n\nwat zijn essentiële oliën?\nwaarom dōTERRA\nveiligheid en kracht\nhoe kun je ze bij je paard inzetten?\nveelvoorkomende klachten bij paarden + olie\ngeurtest\naroma wellness behandeling\nachteraf wordt een olie verloot onder de deelnemers\n\nLijkt het je leuk om ook te leren hoe je zeer effectief je paard in zijn gezondheid kunt ondersteunen? \nWil je meedoen? Meld je aan en ontdek hoe essentiële oliën een waardevolle aanvulling kunnen zijn voor de gezondheid en het welzijn van je paard. \nIk werk samen met Wendy Draaijer\, en dit webinar wordt via haar georganiseerd. Na aanmelding ontvang je de link via WhatsApp\, dus zorg ervoor dat je je mobiele nummer doorgeeft.\nBij aanmelden even aangeven dat je via mij komt “Cindy B.”
URL:https://realisayou.nl/agenda/essentiele-olien-voor-paarden-5/
LOCATION:online
CATEGORIES:Dieren,Online
ATTACH;FMTTYPE=image/png:https://realisayou.nl/wp-content/uploads/2025/04/Scherm­afbeelding-2025-04-04-om-11.26.33.png
END:VEVENT
BEGIN:VEVENT
DTSTART;TZID=Europe/Amsterdam:20250921T100000
DTEND;TZID=Europe/Amsterdam:20250921T140000
DTSTAMP:20260423T172327
CREATED:20250711T113736Z
LAST-MODIFIED:20250711T113744Z
UID:817-1758448800-1758463200@realisayou.nl
SUMMARY:AromaTouch Techniek
DESCRIPTION:AromaTouch™ Certificatie Training – Leer de techniek in één dag \nWil jij leren hoe je deze bijzondere techniek kunt toepassen? Tijdens de AromaTouch™ Certificatie Training leer je stap voor stap hoe je deze ontspannende en helende methode op de juiste manier uitvoert. \nOnze training bestaat uit twee delen: \nTheorie (online) – Je leert over de achtergrond van de AromaTouch™ Techniek\, de werking van de oliën en de impact op het zenuwstelsel. \nPraktijk (op locatie in een kleine groep) – Onder deskundige begeleiding leer je de techniek toe te passen en ervaar je zelf de werking. \nWat kun je verwachten van de training? \n✔ Een unieke en effectieve techniek leren die zowel ontspannend als krachtig is.\n✔ Direct toepasbaar na certificering\, voor privégebruik of als aanvulling op je praktijk.\n✔ Persoonlijke begeleiding door ervaren trainers in een prettige en veilige leeromgeving.\n✔ Een AromaTouch Kit met 8 essentiële oliën om direct mee aan de slag te gaan.\n✔ Een officieel AromaTouch™ certificaat van doTERRA na afronding van de training. \nVoor wie is de AromaTouch™ Training? \nDeze training is geschikt voor iedereen\, ongeacht ervaring. Je hebt geen vooropleiding nodig om deel te nemen. De techniek is ideaal voor: \n✔Wellness professionals zoals masseurs\, fysiotherapeuten en aromatherapeuten.\n✔Sporters\, trainers en therapeuten die een extra techniek willen toevoegen aan hun diensten.\n✔ Mensen die essentiële oliën willen leren toepassen binnen hun gezin of vriendenkring. \nDe kosten:\n–  € 150\,- incl. 8 flesjes essentiële oliën van 5 ml per stuk\n– € 289\,- incl. 8 flesjes essentiële olien van 15 ml per stuk + 115 ml kokosolie (alleen te bestellen wanneer je nog geen doterra kortingsaccount hebt.) \nDeze AromaTouch training wordt gegeven onderleiding van mijn collega Wendy Draaijer. \nIk meld mij graag aan via deze link\nMeld bij de aanmelding dat je via “Cindy B”  komt.
URL:https://realisayou.nl/agenda/aromatouch-techniek-7/
LOCATION:Apeldoorn
CATEGORIES:AromaTouch Techniek
ATTACH;FMTTYPE=image/png:https://realisayou.nl/wp-content/uploads/2025/04/Scherm­afbeelding-2025-04-01-om-17.31.26.png
END:VEVENT
BEGIN:VEVENT
DTSTART;TZID=Europe/Amsterdam:20250923T193000
DTEND;TZID=Europe/Amsterdam:20250923T210000
DTSTAMP:20260423T172327
CREATED:20250804T094452Z
LAST-MODIFIED:20250831T183338Z
UID:891-1758655800-1758661200@realisayou.nl
SUMMARY:Essentiële oliën voor honden
DESCRIPTION:Gratis Webinar: Essentiële oliën voor honden \nIn deze webinar leer je hoe je essentiële oliën op een veilige en effectieve manier kunt gebruiken om jouw hond te ondersteunen. We bespreken welke oliën geschikt zijn\, hoe je ze toepast en wat een verantwoorde dosering is. \nIk werk samen met Wendy van Essentiële Olie en Meer\, en dit webinar wordt via haar georganiseerd. Na aanmelding ontvang je de link via WhatsApp\, dus zorg ervoor dat je je mobiele nummer doorgeeft. Vermeld daarbij ook mijn naam\, Cindy B.\, zodat Wendy weet dat je via mij komt. \nWil je meedoen? Meld je aan en ontdek hoe essentiële oliën een waardevolle aanvulling kunnen zijn voor de gezondheid en het welzijn van je hond.
URL:https://realisayou.nl/agenda/essentiele-olien-voor-honden-6/
LOCATION:online
CATEGORIES:Dieren,Online
ATTACH;FMTTYPE=image/png:https://realisayou.nl/wp-content/uploads/2025/03/Scherm­afbeelding-2025-03-22-om-14.48.19.png
END:VEVENT
BEGIN:VEVENT
DTSTART;TZID=Europe/Amsterdam:20250925T200000
DTEND;TZID=Europe/Amsterdam:20250925T213000
DTSTAMP:20260423T172327
CREATED:20250804T095025Z
LAST-MODIFIED:20250804T095025Z
UID:893-1758830400-1758835800@realisayou.nl
SUMMARY:Webinar Expert talk
DESCRIPTION:Webinar Expert talk\, Essentiële helpers bij ongemakken: De kracht van essentiële oliën.\nWat gebeurt er als je 2 essentiële olie “freaks”laat samenwerken? Dan krijg je echt een super programma!\nvanaf maandag 22 september t/m donderdag 25 september zullen wij elke dag olietips uitlichten op onze socials.\nWe sluiten af met een GEWELDIGE webinar op donderdagavond 25 september om 20.00 waar we nog verder in gaan op deze geweldige producten maar je ook meenemen in hoe je jezelf kunt ondersteunen op lichamelijk en op emotioneel vlak met deze producten. \nHier wil je ECHT bij zijn! Dit webinar doen we eenmalig. \nDit webinar wordt gegeven Léanne van Helio & Wendy van Essentiële olie en Meer waar ik mee samenwerk.\nBij aanmelden aub ook aangeven dat je via mij ‘Cindy B’ komt.\nHier kun je je aanmelden \nHeel veel plezier! \nLiefs Cindy
URL:https://realisayou.nl/agenda/webinar-expert-talk/
LOCATION:online
CATEGORIES:Low Tox Lifestyle,Online
END:VEVENT
END:VCALENDAR