BEGIN:VCALENDAR
VERSION:2.0
PRODID:-//ReaLisa You - ECPv6.15.20//NONSGML v1.0//EN
CALSCALE:GREGORIAN
METHOD:PUBLISH
X-ORIGINAL-URL:https://realisayou.nl
X-WR-CALDESC:Evenementen voor ReaLisa You
REFRESH-INTERVAL;VALUE=DURATION:PT1H
X-Robots-Tag:noindex
X-PUBLISHED-TTL:PT1H
BEGIN:VTIMEZONE
TZID:Europe/Amsterdam
BEGIN:DAYLIGHT
TZOFFSETFROM:+0100
TZOFFSETTO:+0200
TZNAME:CEST
DTSTART:20240331T010000
END:DAYLIGHT
BEGIN:STANDARD
TZOFFSETFROM:+0200
TZOFFSETTO:+0100
TZNAME:CET
DTSTART:20241027T010000
END:STANDARD
BEGIN:DAYLIGHT
TZOFFSETFROM:+0100
TZOFFSETTO:+0200
TZNAME:CEST
DTSTART:20250330T010000
END:DAYLIGHT
BEGIN:STANDARD
TZOFFSETFROM:+0200
TZOFFSETTO:+0100
TZNAME:CET
DTSTART:20251026T010000
END:STANDARD
BEGIN:DAYLIGHT
TZOFFSETFROM:+0100
TZOFFSETTO:+0200
TZNAME:CEST
DTSTART:20260329T010000
END:DAYLIGHT
BEGIN:STANDARD
TZOFFSETFROM:+0200
TZOFFSETTO:+0100
TZNAME:CET
DTSTART:20261025T010000
END:STANDARD
END:VTIMEZONE
BEGIN:VEVENT
DTSTART;VALUE=DATE:20250805
DTEND;VALUE=DATE:20250809
DTSTAMP:20260423T190213
CREATED:20250713T195625Z
LAST-MODIFIED:20250716T120312Z
UID:826-1754352000-1754697599@realisayou.nl
SUMMARY:4 dagen - 4 oliën challenge
DESCRIPTION:Ben jij klaar voor 4 dagen pure olie-magic?\n\n\n\nVan dinsdag 5 t/m vrijdag 8 augustus  starten we de 4 oliën in 4 dagen challenge – speciaal voor jou als je benieuwd bent wat essentiële oliën écht voor je kunnen doen.\n\n\nIedere dag ontvang je een korte video met uitleg én een moment om de olie zélf te ervaren.\n\nWe werken met deze 4 toppers:\n Lavendel – rust en ontspanning\n Lemon – fris en zuiverend\n Pepermunt – helder en energieboost\n Deep Blue – verzachting voor spieren en gewrichten\n\n\n\nAls kers op de olie-taart sluiten we op maandag 11 augustus  om 19:30 af met een live webinar vol tips\, toepassingen én ruimte voor al jouw vragen!\n\n\n\n Meedoen? Vraag een sample setje aan voor € 5\,- – zolang de voorraad strekt!\n\nAanmelden kan via deze link. \nIk wens je heel veel plezier!\nLiefs Cindy
URL:https://realisayou.nl/agenda/4-dagen-4-olien-challenge/
LOCATION:online
CATEGORIES:Low Tox Lifestyle,Online
ATTACH;FMTTYPE=image/jpeg:https://realisayou.nl/wp-content/uploads/2025/07/WhatsApp-Image-2025-06-22-at-21.49.25-1.jpeg
END:VEVENT
BEGIN:VEVENT
DTSTART;TZID=Europe/Amsterdam:20250811T193000
DTEND;TZID=Europe/Amsterdam:20250811T210000
DTSTAMP:20260423T190213
CREATED:20250716T093540Z
LAST-MODIFIED:20250716T120408Z
UID:838-1754940600-1754946000@realisayou.nl
SUMMARY:Kracht van de Natuur - Live Webinar
DESCRIPTION:Ben jij nieuwsgierig wat essentiële oliën écht voor jou kunnen betekenen?\n\n\nSluit dan aan bij dit inspirerende live webinar waarin we samen de magie van 10 krachtige oliën ontdekken. \n🌿 Wat kun je verwachten? \nTijdens dit webinar neem ik je mee in de werking\, toepassingen en fijne weetjes van 10 essentiële oliën die je kunt inzetten voor ontspanning\, energie\, weerstand\, focus\, zuivering en nog veel meer. Denk aan oliën zoals: \n\n\nLavendel – rust en ontspanning \n\n\nLemon – fris en zuiverend \n\n\nPepermunt – focus en energie \n\n\nDeep Blue – verzachting voor spieren en gewrichten \n\n\n…en nog 6 andere pareltjes die je natuurlijke toolkit compleet maken! \n\n\n💬 Er is volop ruimte voor vragen én ik deel mijn persoonlijke tips en ervaringen\, zodat jij na afloop precies weet hoe je zelf aan de slag kunt met deze oliën. \n\n\nAanmelden kan via deze link \nIk kijk ernaar uit om samen met jou deze fijne olie-avond te beleven! \nLiefs\, \nCindy 🌸 \n 
URL:https://realisayou.nl/agenda/kracht-van-de-natuur-live-webinar/
LOCATION:online
CATEGORIES:Low Tox Lifestyle,Online
ATTACH;FMTTYPE=image/png:https://realisayou.nl/wp-content/uploads/2024/07/Scherm­afbeelding-2024-07-23-om-14.24.35.png
END:VEVENT
BEGIN:VEVENT
DTSTART;TZID=Europe/Amsterdam:20250819T200000
DTEND;TZID=Europe/Amsterdam:20250819T203000
DTSTAMP:20260423T190213
CREATED:20250804T093413Z
LAST-MODIFIED:20250804T100532Z
UID:882-1755633600-1755635400@realisayou.nl
SUMMARY:Oliën Speeddate
DESCRIPTION:Haal je vergeten olie uit de kast! Doe mee met onze 30-minuten olienspeeddate.\nHeb jij ook zo’n olie in de kast staan die je ooit enthousiast bestelde (gratis product van de maand? BOGO-actie? ) en die je nu vergeten bent? Zonde\, toch?\nDaarom hebben wij – Wendy & Leanne – iets superleuks bedacht: een 30 minuten SPEEDDATE met 3 oliën die jullie uit een poll hebben gekozen! \n19 augustus om 20.00 uur nemen we je mee in de kracht en \nWe delen praktische tips\, recepten en de mooiste toepassingen – lichamelijk én emotioneel. \nTijd om je oliën weer uit de kast te halen en opnieuw verliefd te worden. \nAanmelden kan via deze link
URL:https://realisayou.nl/agenda/olien-speeddate/
LOCATION:online
CATEGORIES:Online
END:VEVENT
BEGIN:VEVENT
DTSTART;TZID=Europe/Amsterdam:20250824T100000
DTEND;TZID=Europe/Amsterdam:20250824T140000
DTSTAMP:20260423T190213
CREATED:20250424T185319Z
LAST-MODIFIED:20250616T125212Z
UID:592-1756029600-1756044000@realisayou.nl
SUMMARY:AromaTouch Techniek
DESCRIPTION:AromaTouch™ Certificatie Training – Leer de techniek in één dag \nWil jij leren hoe je deze bijzondere techniek kunt toepassen? Tijdens de AromaTouch™ Certificatie Training leer je stap voor stap hoe je deze ontspannende en helende methode op de juiste manier uitvoert. \nOnze training bestaat uit twee delen: \nTheorie (online) – Je leert over de achtergrond van de AromaTouch™ Techniek\, de werking van de oliën en de impact op het zenuwstelsel. \nPraktijk (op locatie in een kleine groep) – Onder deskundige begeleiding leer je de techniek toe te passen en ervaar je zelf de werking. \nWat kun je verwachten van de training? \n✔ Een unieke en effectieve techniek leren die zowel ontspannend als krachtig is.\n✔ Direct toepasbaar na certificering\, voor privégebruik of als aanvulling op je praktijk.\n✔ Persoonlijke begeleiding door ervaren trainers in een prettige en veilige leeromgeving.\n✔ Een AromaTouch Kit met 8 essentiële oliën om direct mee aan de slag te gaan.\n✔ Een officieel AromaTouch™ certificaat van doTERRA na afronding van de training. \nVoor wie is de AromaTouch™ Training? \nDeze training is geschikt voor iedereen\, ongeacht ervaring. Je hebt geen vooropleiding nodig om deel te nemen. De techniek is ideaal voor: \n✔Wellness professionals zoals masseurs\, fysiotherapeuten en aromatherapeuten.\n✔Sporters\, trainers en therapeuten die een extra techniek willen toevoegen aan hun diensten.\n✔ Mensen die essentiële oliën willen leren toepassen binnen hun gezin of vriendenkring. \nDe kosten:\n–  € 150\,- incl. 8 flesjes essentiële oliën van 5 ml per stuk\n– € 289\,- incl. 8 flesjes essentiële olien van 15 ml per stuk + 115 ml kokosolie (alleen te bestellen wanneer je nog geen doterra kortingsaccount hebt.) \nDeze AromaTouch training wordt gegeven onderleiding van mijn collega Wendy Draaijer. \nIk meld mij graag aan via deze link\nMeld bij de aanmelding dat je via “Cindy B”  komt.
URL:https://realisayou.nl/agenda/aromatouch-techniek-6/
LOCATION:Apeldoorn
CATEGORIES:AromaTouch Techniek
ATTACH;FMTTYPE=image/png:https://realisayou.nl/wp-content/uploads/2025/04/Scherm­afbeelding-2025-04-01-om-17.31.26.png
END:VEVENT
BEGIN:VEVENT
DTSTART;TZID=Europe/Amsterdam:20250826T193000
DTEND;TZID=Europe/Amsterdam:20250826T210000
DTSTAMP:20260423T190213
CREATED:20250804T093536Z
LAST-MODIFIED:20250804T093536Z
UID:884-1756236600-1756242000@realisayou.nl
SUMMARY:Essentiële oliën voor honden
DESCRIPTION:Gratis Webinar: Essentiële oliën voor honden \nIn deze webinar leer je hoe je essentiële oliën op een veilige en effectieve manier kunt gebruiken om jouw hond te ondersteunen. We bespreken welke oliën geschikt zijn\, hoe je ze toepast en wat een verantwoorde dosering is. \nIk werk samen met Wendy van Essentiële Olie en Meer\, en dit webinar wordt via haar georganiseerd. Na aanmelding ontvang je de link via WhatsApp\, dus zorg ervoor dat je je mobiele nummer doorgeeft. Vermeld daarbij ook mijn naam\, Cindy B.\, zodat Wendy weet dat je via mij komt. \nWil je meedoen? Meld je aan en ontdek hoe essentiële oliën een waardevolle aanvulling kunnen zijn voor de gezondheid en het welzijn van je hond.
URL:https://realisayou.nl/agenda/essentiele-olien-voor-honden-5/
LOCATION:online
CATEGORIES:Dieren,Online
ATTACH;FMTTYPE=image/png:https://realisayou.nl/wp-content/uploads/2025/03/Scherm­afbeelding-2025-03-22-om-14.48.19.png
END:VEVENT
END:VCALENDAR