BEGIN:VCALENDAR
VERSION:2.0
PRODID:-//ReaLisa You - ECPv6.15.20//NONSGML v1.0//EN
CALSCALE:GREGORIAN
METHOD:PUBLISH
X-ORIGINAL-URL:https://realisayou.nl
X-WR-CALDESC:Evenementen voor ReaLisa You
REFRESH-INTERVAL;VALUE=DURATION:PT1H
X-Robots-Tag:noindex
X-PUBLISHED-TTL:PT1H
BEGIN:VTIMEZONE
TZID:Europe/Amsterdam
BEGIN:DAYLIGHT
TZOFFSETFROM:+0100
TZOFFSETTO:+0200
TZNAME:CEST
DTSTART:20240331T010000
END:DAYLIGHT
BEGIN:STANDARD
TZOFFSETFROM:+0200
TZOFFSETTO:+0100
TZNAME:CET
DTSTART:20241027T010000
END:STANDARD
BEGIN:DAYLIGHT
TZOFFSETFROM:+0100
TZOFFSETTO:+0200
TZNAME:CEST
DTSTART:20250330T010000
END:DAYLIGHT
BEGIN:STANDARD
TZOFFSETFROM:+0200
TZOFFSETTO:+0100
TZNAME:CET
DTSTART:20251026T010000
END:STANDARD
BEGIN:DAYLIGHT
TZOFFSETFROM:+0100
TZOFFSETTO:+0200
TZNAME:CEST
DTSTART:20260329T010000
END:DAYLIGHT
BEGIN:STANDARD
TZOFFSETFROM:+0200
TZOFFSETTO:+0100
TZNAME:CET
DTSTART:20261025T010000
END:STANDARD
END:VTIMEZONE
BEGIN:VEVENT
DTSTART;VALUE=DATE:20250701
DTEND;VALUE=DATE:20250705
DTSTAMP:20260423T203717
CREATED:20250616T124525Z
LAST-MODIFIED:20250629T184840Z
UID:733-1751328000-1751673599@realisayou.nl
SUMMARY:4 dagen - 4 oliën challenge
DESCRIPTION:Ben jij klaar voor 4 dagen pure olie-magic?\n\n\n\nVan dinsdag 1 t/m vrijdag 4 juli starten we de 4 oliën in 4 dagen challenge – speciaal voor jou als je benieuwd bent wat essentiële oliën écht voor je kunnen doen.\n\n\nIedere dag ontvang je een korte video met uitleg én een moment om de olie zélf te ervaren.\n\nWe werken met deze 4 toppers:\n Lavendel – rust en ontspanning\n Lemon – fris en zuiverend\n Pepermunt – helder en energieboost\n Deep Blue – verzachting voor spieren en gewrichten\n\n\n\nAls kers op de olie-taart sluiten we op maandag 7 juli om 19:30 af met een live webinar vol tips\, toepassingen én ruimte voor al jouw vragen!\n\n\n\n Meedoen? Vraag een sample setje aan voor € 5\,- – zolang de voorraad strekt!\n\nAanmelden kan via deze link. \nIk wens je heel veel plezier!\nLiefs Cindy & Team
URL:https://realisayou.nl/agenda/ben-je-benieuwd-naar-essentiele-olien-maar-weet-je-niet-waar-te-beginnen-2/
LOCATION:online
CATEGORIES:Low Tox Lifestyle,Online
ATTACH;FMTTYPE=image/jpeg:https://realisayou.nl/wp-content/uploads/2025/06/WhatsApp-Image-2025-06-22-at-21.49.25.jpeg
END:VEVENT
BEGIN:VEVENT
DTSTART;TZID=Europe/Amsterdam:20250701T193000
DTEND;TZID=Europe/Amsterdam:20250701T203000
DTSTAMP:20260423T203717
CREATED:20250616T122310Z
LAST-MODIFIED:20250616T151216Z
UID:729-1751398200-1751401800@realisayou.nl
SUMMARY:Oil Talk Juli
DESCRIPTION:In deze Live praten Wendy en ik over de nieuwste oliën\, producten en acties van deze maand! Kom alles te weten over speciale kortingen en hoe je gratis producten kunt scoren.\nZet de datum in je agenda en laat je inspireren!\nJe kunt ons live volgen via de Facebook pagina ReaLisa You en later zal ik de video ook op mijn YouTube kanaal plaatsen mocht je niet live aanwezig kunnen zijn.\nLeuk als je ook komt luisteren! \nLiefs\,\nWendy & Cindy
URL:https://realisayou.nl/agenda/oil-talk-juli/
LOCATION:online
ATTACH;FMTTYPE=image/webp:https://realisayou.nl/wp-content/uploads/2025/05/Scherm_afbeelding-2025-02-20-om-11.51.22-1.webp
END:VEVENT
BEGIN:VEVENT
DTSTART;TZID=Europe/Amsterdam:20250707T193000
DTEND;TZID=Europe/Amsterdam:20250707T210000
DTSTAMP:20260423T203717
CREATED:20250704T102246Z
LAST-MODIFIED:20250704T103523Z
UID:810-1751916600-1751922000@realisayou.nl
SUMMARY:Ontdek de 'Kracht van de Natuur' Webinar
DESCRIPTION:Live Webinar: Duik dieper in de wereld van essentiële oliën\n\n\n  \nBen je nieuwsgierig naar wat essentiële oliën écht voor je kunnen betekenen – zowel fysiek als emotioneel? \nSluit dan aan bij dit gratis live webinar waarin we dieper ingaan op de meest gebruikte oliën én hun werking op lichaam én gemoed. \nWat kun je verwachten? \n\n💧 Toelichting op populaire oliën en hoe je ze toepast in je dagelijks leven\n💧 Inzicht in de emotionele kracht van oliën – hoe ze je kunnen ondersteunen bij stress\, focus\, rust en meer\n💧 Ruimte voor al jouw vragen\n\nJe kunt je aanmelden voor het webinar\, óók als je niet hebt meegedaan aan de 4-daagse challenge. \n🌸 Wil je de oliën ook zelf ervaren? Dan kun je nog een sample setje aanvragen voor €5\,- (zolang de voorraad strekt). \nDeze samples bestaan uit:  \n Lavendel – rust en ontspanning\n Lemon – fris en zuiverend\n Pepermunt – helder en energieboost\n Deep Blue – verzachting voor spieren en gewrichten\n👉 Aanmelden kan hier. \nWe kijken ernaar uit om je te ontmoeten! \nLiefs\, \nCindy & Team
URL:https://realisayou.nl/agenda/ontdek-de-kracht-van-de-natuur-webinar/
LOCATION:online
CATEGORIES:Low Tox Lifestyle,Online
ATTACH;FMTTYPE=image/jpeg:https://realisayou.nl/wp-content/uploads/2025/06/WhatsApp-Image-2025-06-22-at-21.49.25.jpeg
END:VEVENT
BEGIN:VEVENT
DTSTART;TZID=Europe/Amsterdam:20250715T200000
DTEND;TZID=Europe/Amsterdam:20250715T203000
DTSTAMP:20260423T203717
CREATED:20250616T122457Z
LAST-MODIFIED:20250617T141908Z
UID:731-1752609600-1752611400@realisayou.nl
SUMMARY:Olie Speeddate
DESCRIPTION:Haal je vergeten olie uit de kast! Doe mee met onze 30-minuten olienspeeddate\nHeb jij ook zo’n olie in de kast staan die je ooit enthousiast bestelde (gratis product van de maand? BOGO-actie? ) en die je nu vergeten bent? Zonde\, toch?\nDaarom hebben\, Wendy & Leanne – iets super leuks bedacht: een 30 minuten SPEEDDATE met 3 oliën die jullie uit een poll hebben gekozen! \nZe delen praktische tips\, recepten en de mooiste toepassingen – lichamelijk én emotioneel. \nTijd om je oliën weer uit de kast te halen en opnieuw verliefd te worden. \nMeld je aan via deze link \nBij aanmelden aub even vermelden dat je via mij\, ‘Cindy B.’ komt. \n 
URL:https://realisayou.nl/agenda/olie-speeddate-2/
LOCATION:online
CATEGORIES:Online
ATTACH;FMTTYPE=image/jpeg:https://realisayou.nl/wp-content/uploads/2025/06/PHOTO-2025-06-17-11-51-46.jpg
END:VEVENT
BEGIN:VEVENT
DTSTART;TZID=Europe/Amsterdam:20250720T100000
DTEND;TZID=Europe/Amsterdam:20250720T140000
DTSTAMP:20260423T203717
CREATED:20250424T185105Z
LAST-MODIFIED:20250616T150051Z
UID:590-1753005600-1753020000@realisayou.nl
SUMMARY:AromaTouch Techniek
DESCRIPTION:AromaTouch™ Certificatie Training – Leer de techniek in één dag \nWil jij leren hoe je deze bijzondere techniek kunt toepassen? Tijdens de AromaTouch™ Certificatie Training leer je stap voor stap hoe je deze ontspannende en helende methode op de juiste manier uitvoert. \nOnze training bestaat uit twee delen: \nTheorie (online) – Je leert over de achtergrond van de AromaTouch™ Techniek\, de werking van de oliën en de impact op het zenuwstelsel. \nPraktijk (op locatie in een kleine groep) – Onder deskundige begeleiding leer je de techniek toe te passen en ervaar je zelf de werking. \nWat kun je verwachten van de training? \n✔ Een unieke en effectieve techniek leren die zowel ontspannend als krachtig is.\n✔ Direct toepasbaar na certificering\, voor privégebruik of als aanvulling op je praktijk.\n✔ Persoonlijke begeleiding door ervaren trainers in een prettige en veilige leeromgeving.\n✔ Een AromaTouch Kit met 8 essentiële oliën om direct mee aan de slag te gaan.\n✔ Een officieel AromaTouch™ certificaat van doTERRA na afronding van de training. \nVoor wie is de AromaTouch™ Training? \nDeze training is geschikt voor iedereen\, ongeacht ervaring. Je hebt geen vooropleiding nodig om deel te nemen. De techniek is ideaal voor: \n✔Wellness professionals zoals masseurs\, fysiotherapeuten en aromatherapeuten.\n✔Sporters\, trainers en therapeuten die een extra techniek willen toevoegen aan hun diensten.\n✔ Mensen die essentiële oliën willen leren toepassen binnen hun gezin of vriendenkring. \nDe kosten:\n–  € 150\,- incl. 8 flesjes essentiële oliën van 5 ml per stuk\n– € 289\,- incl. 8 flesjes essentiële olien van 15 ml per stuk + 115 ml kokosolie (alleen te bestellen wanneer je nog geen doterra kortingsaccount hebt.) \nDeze AromaTouch training wordt gegeven onderleiding van mijn collega Wendy Draaijer. \nIk meld mij graag aan via deze link\nMeld bij de aanmelding dat je via “Cindy B”  komt.
URL:https://realisayou.nl/agenda/aromatouch-techniek-5/
LOCATION:Apeldoorn
CATEGORIES:AromaTouch Techniek
ATTACH;FMTTYPE=image/png:https://realisayou.nl/wp-content/uploads/2025/04/Scherm­afbeelding-2025-04-01-om-17.31.26.png
END:VEVENT
BEGIN:VEVENT
DTSTART;TZID=Europe/Amsterdam:20250721T193000
DTEND;TZID=Europe/Amsterdam:20250721T210000
DTSTAMP:20260423T203717
CREATED:20250616T121640Z
LAST-MODIFIED:20250616T145611Z
UID:727-1753126200-1753131600@realisayou.nl
SUMMARY:Essentiële oliën voor paarden
DESCRIPTION:GRATIS WEBINAR paarden en essentiële oliën. \nWat kun je verwachten? \n\nwat zijn essentiële oliën?\nwaarom dōTERRA\nveiligheid en kracht\nhoe kun je ze bij je paard inzetten?\nveelvoorkomende klachten bij paarden + olie\ngeurtest\naroma wellness behandeling\nachteraf wordt een olie verloot onder de deelnemers\n\nLijkt het je leuk om ook te leren hoe je zeer effectief je paard in zijn gezondheid kunt ondersteunen? \nWil je meedoen? Meld je aan en ontdek hoe essentiële oliën een waardevolle aanvulling kunnen zijn voor de gezondheid en het welzijn van je paard. \nIk werk samen met Wendy Draaijer\, en dit webinar wordt via haar georganiseerd. Na aanmelding ontvang je de link via WhatsApp\, dus zorg ervoor dat je je mobiele nummer doorgeeft.\nBij aanmelden even aangeven dat je via mij komt “Cindy B.”
URL:https://realisayou.nl/agenda/essentiele-olien-voor-paarden-4/
LOCATION:online
CATEGORIES:Dieren,Online
ATTACH;FMTTYPE=image/png:https://realisayou.nl/wp-content/uploads/2025/04/Scherm­afbeelding-2025-04-04-om-11.26.33.png
END:VEVENT
BEGIN:VEVENT
DTSTART;TZID=Europe/Amsterdam:20250729T193000
DTEND;TZID=Europe/Amsterdam:20250729T210000
DTSTAMP:20260423T203717
CREATED:20250616T145754Z
LAST-MODIFIED:20250616T145754Z
UID:736-1753817400-1753822800@realisayou.nl
SUMMARY:Essentiële oliën voor honden
DESCRIPTION:Gratis Webinar: Essentiële oliën voor honden \nIn deze webinar leer je hoe je essentiële oliën op een veilige en effectieve manier kunt gebruiken om jouw hond te ondersteunen. We bespreken welke oliën geschikt zijn\, hoe je ze toepast en wat een verantwoorde dosering is. \nIk werk samen met Wendy van Essentiële Olie en Meer\, en dit webinar wordt via haar georganiseerd. Na aanmelding ontvang je de link via WhatsApp\, dus zorg ervoor dat je je mobiele nummer doorgeeft. Vermeld daarbij ook mijn naam\, Cindy B.\, zodat Wendy weet dat je via mij komt. \nWil je meedoen? Meld je aan en ontdek hoe essentiële oliën een waardevolle aanvulling kunnen zijn voor de gezondheid en het welzijn van je hond.
URL:https://realisayou.nl/agenda/essentiele-olien-voor-honden-4/
LOCATION:online
CATEGORIES:Dieren,Online
ATTACH;FMTTYPE=image/png:https://realisayou.nl/wp-content/uploads/2025/03/Scherm­afbeelding-2025-03-22-om-14.48.19.png
END:VEVENT
END:VCALENDAR