BEGIN:VCALENDAR
VERSION:2.0
PRODID:-//ReaLisa You - ECPv6.15.20//NONSGML v1.0//EN
CALSCALE:GREGORIAN
METHOD:PUBLISH
X-ORIGINAL-URL:https://realisayou.nl
X-WR-CALDESC:Evenementen voor ReaLisa You
REFRESH-INTERVAL;VALUE=DURATION:PT1H
X-Robots-Tag:noindex
X-PUBLISHED-TTL:PT1H
BEGIN:VTIMEZONE
TZID:Europe/Amsterdam
BEGIN:DAYLIGHT
TZOFFSETFROM:+0100
TZOFFSETTO:+0200
TZNAME:CEST
DTSTART:20250330T010000
END:DAYLIGHT
BEGIN:STANDARD
TZOFFSETFROM:+0200
TZOFFSETTO:+0100
TZNAME:CET
DTSTART:20251026T010000
END:STANDARD
BEGIN:DAYLIGHT
TZOFFSETFROM:+0100
TZOFFSETTO:+0200
TZNAME:CEST
DTSTART:20260329T010000
END:DAYLIGHT
BEGIN:STANDARD
TZOFFSETFROM:+0200
TZOFFSETTO:+0100
TZNAME:CET
DTSTART:20261025T010000
END:STANDARD
BEGIN:DAYLIGHT
TZOFFSETFROM:+0100
TZOFFSETTO:+0200
TZNAME:CEST
DTSTART:20270328T010000
END:DAYLIGHT
BEGIN:STANDARD
TZOFFSETFROM:+0200
TZOFFSETTO:+0100
TZNAME:CET
DTSTART:20271031T010000
END:STANDARD
END:VTIMEZONE
BEGIN:VEVENT
DTSTART;TZID=Europe/Amsterdam:20260421T193000
DTEND;TZID=Europe/Amsterdam:20260421T210000
DTSTAMP:20260422T155949
CREATED:20260326T142326Z
LAST-MODIFIED:20260326T142326Z
UID:1994-1776799800-1776805200@realisayou.nl
SUMMARY:Webinar: Rust & Slaap
DESCRIPTION:Heb jij last van onrust in je hoofd\, moeilijk in slaap komen of ’s nachts vaak wakker worden?\nOf merk je dat stress steeds meer invloed heeft op jouw energie\, stemming en slaap? \nTijdens dit webinar neem ik je mee in hoe je met essentiële oliën op een natuurlijke manier meer rust kunt creëren in je hoofd én in je lichaam. \nDit webinar is geschikt voor iedereen — ook als je de 7-daagse Rust & Slaap challenge niet hebt gevolgd. \nTijdens dit webinar leer je: \nWat stress met je lichaam en slaap doet\nWaarom je soms wel moe bent\, maar toch niet kunt slapen\nHoe essentiële oliën je kunnen ondersteunen bij ontspanning en herstel\nWelke oliën je kunt inzetten bij stress\, piekeren en slaapproblemen\nPraktische toepassingen voor overdag en in de avond\nHoe je een simpele routine opbouwt voor meer rust en betere nachten \nJe hebt geen ervaring nodig. Alles wordt stap voor stap uitgelegd. \nNa afloop weet je precies hoe je essentiële oliën kunt inzetten om meer balans te ervaren in je dagelijks leven. \nAanmelden kan via deze link.
URL:https://realisayou.nl/agenda/webinar-rust-slaap/
LOCATION:online
CATEGORIES:Online,webinar
ATTACH;FMTTYPE=image/png:https://realisayou.nl/wp-content/uploads/2026/03/Scherm­afbeelding-2026-03-26-om-15.21.42.png
END:VEVENT
END:VCALENDAR