BEGIN:VCALENDAR
VERSION:2.0
PRODID:-//ReaLisa You - ECPv6.15.20//NONSGML v1.0//EN
CALSCALE:GREGORIAN
METHOD:PUBLISH
X-ORIGINAL-URL:https://realisayou.nl
X-WR-CALDESC:Evenementen voor ReaLisa You
REFRESH-INTERVAL;VALUE=DURATION:PT1H
X-Robots-Tag:noindex
X-PUBLISHED-TTL:PT1H
BEGIN:VTIMEZONE
TZID:Europe/Amsterdam
BEGIN:DAYLIGHT
TZOFFSETFROM:+0100
TZOFFSETTO:+0200
TZNAME:CEST
DTSTART:20250330T010000
END:DAYLIGHT
BEGIN:STANDARD
TZOFFSETFROM:+0200
TZOFFSETTO:+0100
TZNAME:CET
DTSTART:20251026T010000
END:STANDARD
BEGIN:DAYLIGHT
TZOFFSETFROM:+0100
TZOFFSETTO:+0200
TZNAME:CEST
DTSTART:20260329T010000
END:DAYLIGHT
BEGIN:STANDARD
TZOFFSETFROM:+0200
TZOFFSETTO:+0100
TZNAME:CET
DTSTART:20261025T010000
END:STANDARD
BEGIN:DAYLIGHT
TZOFFSETFROM:+0100
TZOFFSETTO:+0200
TZNAME:CEST
DTSTART:20270328T010000
END:DAYLIGHT
BEGIN:STANDARD
TZOFFSETFROM:+0200
TZOFFSETTO:+0100
TZNAME:CET
DTSTART:20271031T010000
END:STANDARD
END:VTIMEZONE
BEGIN:VEVENT
DTSTART;TZID=Europe/Amsterdam:20260517T100000
DTEND;TZID=Europe/Amsterdam:20260517T130000
DTSTAMP:20260423T001010
CREATED:20251118T225215Z
LAST-MODIFIED:20260110T161630Z
UID:1656-1779012000-1779022800@realisayou.nl
SUMMARY:Fast Solution Training – Symphony of the Cells™
DESCRIPTION:Tijdens deze ééndaagse training leer je alles over de bijzondere Symphony of the Cells™️-techniek\, ontwikkeld door Boyd Truman.\nSOC is een eenvoudige maar krachtige methode waarbij specifieke essentiële oliën in een vaste volgorde op de rug en voeten worden aangebracht. Elke toepassing richt zich op een ander lichaamssysteem\, zodat je doelgericht en intuïtief ondersteuning kunt bieden aan jezelf én aan anderen. \nWat gaan we doen? \nUitleg over de achtergrond en filosofie van Symphony of the Cells™️. \nKennis maken met de verschillende protocollen en toepassingen. \nStap voor stap leren hoe je deze techniek uitvoert. \nOefenen met elkaar\, zodat je de toepassing écht in je vingers krijgt. \nPraktische tips voor gebruik thuis\, bij familie\, cliënten of in je praktijk. \nNa deze dag ga je naar huis met: \nKennis over de verschillende protocollen en waar je die voor kunt inzetten. \nPraktische ervaring in het geven én ontvangen van een toepassing. \nEen hand-out/overzicht waarmee je direct aan de slag kunt. \n✨ Een officieel deelnamecertificaat ✨ \nKortom: een hands-on dag waarin je zowel theorie als praktijk meekrijgt\, en ontdekt hoe Symphony of the Cells™️ een ‘fast solution’ kan zijn bij veel dagelijkse uitdagingen. \nDeze ‘Fast Solution training’ wordt gegeven onderleiding van mijn collega Wendy Draaijer. \nWanneer je je aanmeld geven dan aub ook even aan dat je via “Cindy B”  komt.\nAanmelden via deze link
URL:https://realisayou.nl/agenda/fast-solution-training-symphony-of-the-cells-3/
LOCATION:Apeldoorn
CATEGORIES:Op locatie
ATTACH;FMTTYPE=image/png:https://realisayou.nl/wp-content/uploads/2025/11/Scherm­afbeelding-2025-11-18-om-11.08.01-e1763506107486.png
END:VEVENT
END:VCALENDAR