BEGIN:VCALENDAR
VERSION:2.0
PRODID:-//ReaLisa You - ECPv6.15.20//NONSGML v1.0//EN
CALSCALE:GREGORIAN
METHOD:PUBLISH
X-WR-CALNAME:ReaLisa You
X-ORIGINAL-URL:https://realisayou.nl
X-WR-CALDESC:Evenementen voor ReaLisa You
REFRESH-INTERVAL;VALUE=DURATION:PT1H
X-Robots-Tag:noindex
X-PUBLISHED-TTL:PT1H
BEGIN:VTIMEZONE
TZID:Europe/Amsterdam
BEGIN:DAYLIGHT
TZOFFSETFROM:+0100
TZOFFSETTO:+0200
TZNAME:CEST
DTSTART:20240331T010000
END:DAYLIGHT
BEGIN:STANDARD
TZOFFSETFROM:+0200
TZOFFSETTO:+0100
TZNAME:CET
DTSTART:20241027T010000
END:STANDARD
BEGIN:DAYLIGHT
TZOFFSETFROM:+0100
TZOFFSETTO:+0200
TZNAME:CEST
DTSTART:20250330T010000
END:DAYLIGHT
BEGIN:STANDARD
TZOFFSETFROM:+0200
TZOFFSETTO:+0100
TZNAME:CET
DTSTART:20251026T010000
END:STANDARD
BEGIN:DAYLIGHT
TZOFFSETFROM:+0100
TZOFFSETTO:+0200
TZNAME:CEST
DTSTART:20260329T010000
END:DAYLIGHT
BEGIN:STANDARD
TZOFFSETFROM:+0200
TZOFFSETTO:+0100
TZNAME:CET
DTSTART:20261025T010000
END:STANDARD
END:VTIMEZONE
BEGIN:VEVENT
DTSTART;VALUE=DATE:20251124
DTEND;VALUE=DATE:20251128
DTSTAMP:20260426T043753
CREATED:20251118T221432Z
LAST-MODIFIED:20251118T223159Z
UID:1643-1763942400-1764287999@realisayou.nl
SUMMARY:Webinar Expert talk - oilcamp
DESCRIPTION:De kracht van essentiële oliën: Emoties in balans\nWat gebeurt er als je 2 essentiële olie “freaks”laat samenwerken? Dan krijg je echt een super programma!\nvanaf maandag 24 november t/m donderdag 27 november zullen wij in een besloten appgroep zonder prikkels elke dag een video delen\, hand-out delen en een toffe Quiz. \nWe sluiten af met een tof leerzaam webinar op donderdag 27 november om 20.00 uur.\nHier wil je ECHT bij zijn! Dit webinar doen we eenmalig. \nDit webinar wordt gegeven Léanne van Helio & Wendy van Essentiële olie en Meer waar ik mee samenwerk. \nBij aanmelden aub ook aangeven dat je via mij ‘Cindy B’ komt.\nHier kun je je aanmelden \nHeel veel plezier! \nLiefs Cindy
URL:https://realisayou.nl/agenda/webinar-expert-talk-4/
LOCATION:online
CATEGORIES:Low Tox Lifestyle,Online
END:VEVENT
END:VCALENDAR