BEGIN:VCALENDAR
VERSION:2.0
PRODID:-//ReaLisa You - ECPv6.15.20//NONSGML v1.0//EN
CALSCALE:GREGORIAN
METHOD:PUBLISH
X-ORIGINAL-URL:https://realisayou.nl
X-WR-CALDESC:Evenementen voor ReaLisa You
REFRESH-INTERVAL;VALUE=DURATION:PT1H
X-Robots-Tag:noindex
X-PUBLISHED-TTL:PT1H
BEGIN:VTIMEZONE
TZID:Europe/Amsterdam
BEGIN:DAYLIGHT
TZOFFSETFROM:+0100
TZOFFSETTO:+0200
TZNAME:CEST
DTSTART:20240331T010000
END:DAYLIGHT
BEGIN:STANDARD
TZOFFSETFROM:+0200
TZOFFSETTO:+0100
TZNAME:CET
DTSTART:20241027T010000
END:STANDARD
BEGIN:DAYLIGHT
TZOFFSETFROM:+0100
TZOFFSETTO:+0200
TZNAME:CEST
DTSTART:20250330T010000
END:DAYLIGHT
BEGIN:STANDARD
TZOFFSETFROM:+0200
TZOFFSETTO:+0100
TZNAME:CET
DTSTART:20251026T010000
END:STANDARD
BEGIN:DAYLIGHT
TZOFFSETFROM:+0100
TZOFFSETTO:+0200
TZNAME:CEST
DTSTART:20260329T010000
END:DAYLIGHT
BEGIN:STANDARD
TZOFFSETFROM:+0200
TZOFFSETTO:+0100
TZNAME:CET
DTSTART:20261025T010000
END:STANDARD
BEGIN:DAYLIGHT
TZOFFSETFROM:+0100
TZOFFSETTO:+0200
TZNAME:CEST
DTSTART:20270328T010000
END:DAYLIGHT
BEGIN:STANDARD
TZOFFSETFROM:+0200
TZOFFSETTO:+0100
TZNAME:CET
DTSTART:20271031T010000
END:STANDARD
END:VTIMEZONE
BEGIN:VEVENT
DTSTART;VALUE=DATE:20251205
DTEND;VALUE=DATE:20251215
DTSTAMP:20260425T143741
CREATED:20251007T143412Z
LAST-MODIFIED:20251203T160258Z
UID:1212-1764892800-1765756799@realisayou.nl
SUMMARY:Volle Maan Parasieten Detox – 10 dagen loslaten & helderheid
DESCRIPTION:Volle Maan Parasieten Detox – 10 dagen loslaten & helderheid \nVoel je dat je hoofd vol zit? Dat je gedachten blijven draaien en je verlangt naar rust\, overzicht en lichtheid?\nDe Volle Maan in Tweeling nodigt je uit om je hoofd leeg te maken\, je energie te verfrissen en ruimte te scheppen voor nieuwe inzichten. \nDinsdag 2 december t/m donderdag 12 december 2025\nVolle Maan in Tweeling\nThema: Loslaten van mentale ruis\, overdenken en onrust. Ruimte maken voor helderheid\, inspiratie en innerlijke rust. \nTijdens deze 10-daagse ontvang je:\n• Frequenties op afstand die jouw lichaam en energieveld ondersteunen: detox\, zenuwstelselbalans\, Cell Salts\, immuunboost\n• Persoonlijk muziekfragment\, afgestemd op jouw energie\, nadat ik jouw stemopname heb ontvangen\n• E-book vol praktische tips\, essentiële olie-inspiratie\, affirmaties en mini-rituelen \nAlles wat loskomt mag er zijn. Jij bepaalt zelf hoe actief je meedoet – de scans werken op afstand\, of je nu bewust meedoet of het rustig over je heen laat komen. Beide is helemaal prima. \nZodra je je aanmeldt\, stuur ik je een berichtje met uitleg over de informatie die ik nodig heb voor jouw scan. Zodra ik deze heb\, ontvang je jouw persoonlijke muziekfragment en start ik met het sturen van de frequenties. Zo kun jij direct aan de slag met jouw proces van loslaten en helder worden. \nIk kijk ernaar uit om deze Detox samen met jou te beleven.\nGun jezelf deze tijd om je hoofd leeg te maken\, te ontspannen en het jaar af te sluiten met rust en helderheid. \nLiefs\,\nCindy 🌸 \n\n\n\n\n\n\np.s. aanmelden kan via deze link
URL:https://realisayou.nl/agenda/volle-maan-parasieten-detox/
LOCATION:online
CATEGORIES:frequenties,Volle maan
ATTACH;FMTTYPE=image/png:https://realisayou.nl/wp-content/uploads/2025/10/Scherm­afbeelding-2025-10-07-om-15.15.27.png
END:VEVENT
BEGIN:VEVENT
DTSTART;VALUE=DATE:20260217
DTEND;VALUE=DATE:20260227
DTSTAMP:20260425T143741
CREATED:20260217T135502Z
LAST-MODIFIED:20260217T135738Z
UID:1928-1771286400-1772150399@realisayou.nl
SUMMARY:Nieuwe Maan Reset – 10 dagen intentie & vernieuwing
DESCRIPTION:🌑 Nieuwe Maan Reset – 10 dagen van intentie & vernieuwing\nVoel jij dat het tijd is om opnieuw te beginnen? Met meer helderheid. Meer focus. Meer vertrouwen in jezelf. \nDe Nieuwe Maan van 17 februari markeert een krachtig nieuw begin.\nEen moment om stil te staan…\nte voelen wat je écht wilt… en bewust nieuwe intenties te zetten voor de komende periode. \nGeen haast.\nGeen moeten.\nWel afstemming. \n🗓 17 februari t/m 26 februari 2026\n🌑 Nieuwe Maan \nThema: intentie zetten\, innerlijke vernieuwing & ruimte maken voor wat wil groeien. \n\nTijdens deze 10-daagse Nieuwe Maan Reset ontvang je:\nFrequenties op afstand die jouw systeem ondersteunen in reset\, balans en nieuwe energie\n(focus\, detox\, clarity\, heart alignment & new beginnings)\nEen persoonlijk muziekfragment\, afgestemd op jouw energie\n(na ontvangst van jouw stemopname)\n\nDeze periode gaat over zaaien.\nWat wil jij laten groeien?\nWelke energie wil jij voeden?\nJe hoeft niets te forceren.\nDe frequenties werken zacht op de achtergrond terwijl jij bewust meebeweegt met deze natuurlijke cyclus van vernieuwing. \nNa je aanmelding ontvang je van mij een berichtje met wat ik nodig heb voor jouw persoonlijke afstemming.\nZodra ik jouw stemopname heb ontvangen\, start ik direct met het sturen van de frequenties en ontvang jij jouw persoonlijke muziekfragment.\nIk kijk ernaar uit om samen met jou deze Nieuwe Maan Reset te beleven 🌑 \nGun jezelf dit moment om opnieuw te kiezen.\nOm te vertragen.\nOm ruimte te maken voor jouw volgende stap. \nLiefs\nCindy 🌸 \n\n\n\n\n\np.s. aanmelden kan via deze link stuur mij een bericht met ‘Nieuwe Maan’.
URL:https://realisayou.nl/agenda/nieuwe-maan-reset-10-dagen-intentie-vernieuwing/
LOCATION:online
CATEGORIES:frequenties,Nieuwe Maan,Online
ATTACH;FMTTYPE=image/png:https://realisayou.nl/wp-content/uploads/2025/10/Scherm­afbeelding-2025-10-07-om-16.50.10.png
END:VEVENT
END:VCALENDAR