BEGIN:VCALENDAR
VERSION:2.0
PRODID:-//ReaLisa You - ECPv6.15.20//NONSGML v1.0//EN
CALSCALE:GREGORIAN
METHOD:PUBLISH
X-WR-CALNAME:ReaLisa You
X-ORIGINAL-URL:https://realisayou.nl
X-WR-CALDESC:Evenementen voor ReaLisa You
REFRESH-INTERVAL;VALUE=DURATION:PT1H
X-Robots-Tag:noindex
X-PUBLISHED-TTL:PT1H
BEGIN:VTIMEZONE
TZID:Europe/Amsterdam
BEGIN:DAYLIGHT
TZOFFSETFROM:+0100
TZOFFSETTO:+0200
TZNAME:CEST
DTSTART:20240331T010000
END:DAYLIGHT
BEGIN:STANDARD
TZOFFSETFROM:+0200
TZOFFSETTO:+0100
TZNAME:CET
DTSTART:20241027T010000
END:STANDARD
BEGIN:DAYLIGHT
TZOFFSETFROM:+0100
TZOFFSETTO:+0200
TZNAME:CEST
DTSTART:20250330T010000
END:DAYLIGHT
BEGIN:STANDARD
TZOFFSETFROM:+0200
TZOFFSETTO:+0100
TZNAME:CET
DTSTART:20251026T010000
END:STANDARD
BEGIN:DAYLIGHT
TZOFFSETFROM:+0100
TZOFFSETTO:+0200
TZNAME:CEST
DTSTART:20260329T010000
END:DAYLIGHT
BEGIN:STANDARD
TZOFFSETFROM:+0200
TZOFFSETTO:+0100
TZNAME:CET
DTSTART:20261025T010000
END:STANDARD
END:VTIMEZONE
BEGIN:VEVENT
DTSTART;TZID=Europe/Amsterdam:20250923T193000
DTEND;TZID=Europe/Amsterdam:20250923T210000
DTSTAMP:20260422T235435
CREATED:20250804T094452Z
LAST-MODIFIED:20250831T183338Z
UID:891-1758655800-1758661200@realisayou.nl
SUMMARY:Essentiële oliën voor honden
DESCRIPTION:Gratis Webinar: Essentiële oliën voor honden \nIn deze webinar leer je hoe je essentiële oliën op een veilige en effectieve manier kunt gebruiken om jouw hond te ondersteunen. We bespreken welke oliën geschikt zijn\, hoe je ze toepast en wat een verantwoorde dosering is. \nIk werk samen met Wendy van Essentiële Olie en Meer\, en dit webinar wordt via haar georganiseerd. Na aanmelding ontvang je de link via WhatsApp\, dus zorg ervoor dat je je mobiele nummer doorgeeft. Vermeld daarbij ook mijn naam\, Cindy B.\, zodat Wendy weet dat je via mij komt. \nWil je meedoen? Meld je aan en ontdek hoe essentiële oliën een waardevolle aanvulling kunnen zijn voor de gezondheid en het welzijn van je hond.
URL:https://realisayou.nl/agenda/essentiele-olien-voor-honden-6/
LOCATION:online
CATEGORIES:Dieren,Online
ATTACH;FMTTYPE=image/png:https://realisayou.nl/wp-content/uploads/2025/03/Scherm­afbeelding-2025-03-22-om-14.48.19.png
END:VEVENT
BEGIN:VEVENT
DTSTART;TZID=Europe/Amsterdam:20250916T193000
DTEND;TZID=Europe/Amsterdam:20250916T210000
DTSTAMP:20260422T235435
CREATED:20250804T094336Z
LAST-MODIFIED:20250804T134000Z
UID:889-1758051000-1758056400@realisayou.nl
SUMMARY:Essentiële oliën voor paarden
DESCRIPTION:GRATIS WEBINAR paarden en essentiële oliën. \nWat kun je verwachten? \n\nwat zijn essentiële oliën?\nwaarom dōTERRA\nveiligheid en kracht\nhoe kun je ze bij je paard inzetten?\nveelvoorkomende klachten bij paarden + olie\ngeurtest\naroma wellness behandeling\nachteraf wordt een olie verloot onder de deelnemers\n\nLijkt het je leuk om ook te leren hoe je zeer effectief je paard in zijn gezondheid kunt ondersteunen? \nWil je meedoen? Meld je aan en ontdek hoe essentiële oliën een waardevolle aanvulling kunnen zijn voor de gezondheid en het welzijn van je paard. \nIk werk samen met Wendy Draaijer\, en dit webinar wordt via haar georganiseerd. Na aanmelding ontvang je de link via WhatsApp\, dus zorg ervoor dat je je mobiele nummer doorgeeft.\nBij aanmelden even aangeven dat je via mij komt “Cindy B.”
URL:https://realisayou.nl/agenda/essentiele-olien-voor-paarden-5/
LOCATION:online
CATEGORIES:Dieren,Online
ATTACH;FMTTYPE=image/png:https://realisayou.nl/wp-content/uploads/2025/04/Scherm­afbeelding-2025-04-04-om-11.26.33.png
END:VEVENT
BEGIN:VEVENT
DTSTART;TZID=Europe/Amsterdam:20250826T193000
DTEND;TZID=Europe/Amsterdam:20250826T210000
DTSTAMP:20260422T235435
CREATED:20250804T093536Z
LAST-MODIFIED:20250804T093536Z
UID:884-1756236600-1756242000@realisayou.nl
SUMMARY:Essentiële oliën voor honden
DESCRIPTION:Gratis Webinar: Essentiële oliën voor honden \nIn deze webinar leer je hoe je essentiële oliën op een veilige en effectieve manier kunt gebruiken om jouw hond te ondersteunen. We bespreken welke oliën geschikt zijn\, hoe je ze toepast en wat een verantwoorde dosering is. \nIk werk samen met Wendy van Essentiële Olie en Meer\, en dit webinar wordt via haar georganiseerd. Na aanmelding ontvang je de link via WhatsApp\, dus zorg ervoor dat je je mobiele nummer doorgeeft. Vermeld daarbij ook mijn naam\, Cindy B.\, zodat Wendy weet dat je via mij komt. \nWil je meedoen? Meld je aan en ontdek hoe essentiële oliën een waardevolle aanvulling kunnen zijn voor de gezondheid en het welzijn van je hond.
URL:https://realisayou.nl/agenda/essentiele-olien-voor-honden-5/
LOCATION:online
CATEGORIES:Dieren,Online
ATTACH;FMTTYPE=image/png:https://realisayou.nl/wp-content/uploads/2025/03/Scherm­afbeelding-2025-03-22-om-14.48.19.png
END:VEVENT
BEGIN:VEVENT
DTSTART;TZID=Europe/Amsterdam:20250729T193000
DTEND;TZID=Europe/Amsterdam:20250729T210000
DTSTAMP:20260422T235435
CREATED:20250616T145754Z
LAST-MODIFIED:20250616T145754Z
UID:736-1753817400-1753822800@realisayou.nl
SUMMARY:Essentiële oliën voor honden
DESCRIPTION:Gratis Webinar: Essentiële oliën voor honden \nIn deze webinar leer je hoe je essentiële oliën op een veilige en effectieve manier kunt gebruiken om jouw hond te ondersteunen. We bespreken welke oliën geschikt zijn\, hoe je ze toepast en wat een verantwoorde dosering is. \nIk werk samen met Wendy van Essentiële Olie en Meer\, en dit webinar wordt via haar georganiseerd. Na aanmelding ontvang je de link via WhatsApp\, dus zorg ervoor dat je je mobiele nummer doorgeeft. Vermeld daarbij ook mijn naam\, Cindy B.\, zodat Wendy weet dat je via mij komt. \nWil je meedoen? Meld je aan en ontdek hoe essentiële oliën een waardevolle aanvulling kunnen zijn voor de gezondheid en het welzijn van je hond.
URL:https://realisayou.nl/agenda/essentiele-olien-voor-honden-4/
LOCATION:online
CATEGORIES:Dieren,Online
ATTACH;FMTTYPE=image/png:https://realisayou.nl/wp-content/uploads/2025/03/Scherm­afbeelding-2025-03-22-om-14.48.19.png
END:VEVENT
BEGIN:VEVENT
DTSTART;TZID=Europe/Amsterdam:20250721T193000
DTEND;TZID=Europe/Amsterdam:20250721T210000
DTSTAMP:20260422T235435
CREATED:20250616T121640Z
LAST-MODIFIED:20250616T145611Z
UID:727-1753126200-1753131600@realisayou.nl
SUMMARY:Essentiële oliën voor paarden
DESCRIPTION:GRATIS WEBINAR paarden en essentiële oliën. \nWat kun je verwachten? \n\nwat zijn essentiële oliën?\nwaarom dōTERRA\nveiligheid en kracht\nhoe kun je ze bij je paard inzetten?\nveelvoorkomende klachten bij paarden + olie\ngeurtest\naroma wellness behandeling\nachteraf wordt een olie verloot onder de deelnemers\n\nLijkt het je leuk om ook te leren hoe je zeer effectief je paard in zijn gezondheid kunt ondersteunen? \nWil je meedoen? Meld je aan en ontdek hoe essentiële oliën een waardevolle aanvulling kunnen zijn voor de gezondheid en het welzijn van je paard. \nIk werk samen met Wendy Draaijer\, en dit webinar wordt via haar georganiseerd. Na aanmelding ontvang je de link via WhatsApp\, dus zorg ervoor dat je je mobiele nummer doorgeeft.\nBij aanmelden even aangeven dat je via mij komt “Cindy B.”
URL:https://realisayou.nl/agenda/essentiele-olien-voor-paarden-4/
LOCATION:online
CATEGORIES:Dieren,Online
ATTACH;FMTTYPE=image/png:https://realisayou.nl/wp-content/uploads/2025/04/Scherm­afbeelding-2025-04-04-om-11.26.33.png
END:VEVENT
BEGIN:VEVENT
DTSTART;TZID=Europe/Amsterdam:20250630T193000
DTEND;TZID=Europe/Amsterdam:20250630T210000
DTSTAMP:20260422T235435
CREATED:20250527T105045Z
LAST-MODIFIED:20250616T151152Z
UID:629-1751311800-1751317200@realisayou.nl
SUMMARY:Essentiële oliën voor paarden
DESCRIPTION:GRATIS WEBINAR paarden en essentiële oliën. \nWat kun je verwachten? \n\nwat zijn essentiële oliën?\nwaarom dōTERRA\nveiligheid en kracht\nhoe kun je ze bij je paard inzetten?\nveelvoorkomende klachten bij paarden + olie\ngeurtest\naroma wellness behandeling\nachteraf wordt een olie verloot onder de deelnemers\n\nLijkt het je leuk om ook te leren hoe je zeer effectief je paard in zijn gezondheid kunt ondersteunen? \nWil je meedoen? Meld je aan en ontdek hoe essentiële oliën een waardevolle aanvulling kunnen zijn voor de gezondheid en het welzijn van je paard. \nIk werk samen met Wendy Draaijer\, en dit webinar wordt via haar georganiseerd. Na aanmelding ontvang je de link via WhatsApp\, dus zorg ervoor dat je je mobiele nummer doorgeeft.\nBij aanmelden even aangeven dat je via mij komt “Cindy B.”
URL:https://realisayou.nl/agenda/essentiele-olien-voor-paarden-3/
LOCATION:online
CATEGORIES:Dieren,Online
ATTACH;FMTTYPE=image/png:https://realisayou.nl/wp-content/uploads/2025/04/Scherm­afbeelding-2025-04-04-om-11.26.33.png
END:VEVENT
BEGIN:VEVENT
DTSTART;TZID=Europe/Amsterdam:20250617T193000
DTEND;TZID=Europe/Amsterdam:20250617T210000
DTSTAMP:20260422T235435
CREATED:20250527T104715Z
LAST-MODIFIED:20250616T151823Z
UID:627-1750188600-1750194000@realisayou.nl
SUMMARY:Essentiële oliën voor honden
DESCRIPTION:Gratis Webinar: Essentiële oliën voor honden \nIn deze webinar leer je hoe je essentiële oliën op een veilige en effectieve manier kunt gebruiken om jouw hond te ondersteunen. We bespreken welke oliën geschikt zijn\, hoe je ze toepast en wat een verantwoorde dosering is. \nIk werk samen met Wendy van Essentiële Olie en Meer\, en dit webinar wordt via haar georganiseerd. Na aanmelding ontvang je de link via WhatsApp\, dus zorg ervoor dat je je mobiele nummer doorgeeft. Vermeld daarbij ook mijn naam\, Cindy B.\, zodat Wendy weet dat je via mij komt. \nWil je meedoen? Meld je aan en ontdek hoe essentiële oliën een waardevolle aanvulling kunnen zijn voor de gezondheid en het welzijn van je hond.
URL:https://realisayou.nl/agenda/essentiele-olien-voor-honden-3/
LOCATION:online
CATEGORIES:Dieren,Online
ATTACH;FMTTYPE=image/png:https://realisayou.nl/wp-content/uploads/2025/03/Scherm­afbeelding-2025-03-22-om-14.48.19.png
END:VEVENT
BEGIN:VEVENT
DTSTART;TZID=Europe/Amsterdam:20250527T213000
DTEND;TZID=Europe/Amsterdam:20250527T230000
DTSTAMP:20260422T235435
CREATED:20250426T111216Z
LAST-MODIFIED:20250426T113243Z
UID:596-1748381400-1748386800@realisayou.nl
SUMMARY:Essentiële oliën voor honden
DESCRIPTION:Gratis Webinar: Essentiële oliën voor honden \nIn deze webinar leer je hoe je essentiële oliën op een veilige en effectieve manier kunt gebruiken om jouw hond te ondersteunen. We bespreken welke oliën geschikt zijn\, hoe je ze toepast en wat een verantwoorde dosering is. \nIk werk samen met Wendy van Essentiële Olie en Meer\, en dit webinar wordt via haar georganiseerd. Na aanmelding ontvang je de link via WhatsApp\, dus zorg ervoor dat je je mobiele nummer doorgeeft. Vermeld daarbij ook mijn naam\, Cindy B.\, zodat Wendy weet dat je via mij komt. \nWil je meedoen? Meld je aan en ontdek hoe essentiële oliën een waardevolle aanvulling kunnen zijn voor de gezondheid en het welzijn van je hond.
URL:https://realisayou.nl/agenda/essentiele-olien-voor-honden-2/
LOCATION:online
CATEGORIES:Dieren,Online
ATTACH;FMTTYPE=image/png:https://realisayou.nl/wp-content/uploads/2025/03/Scherm­afbeelding-2025-03-22-om-14.48.19.png
END:VEVENT
BEGIN:VEVENT
DTSTART;TZID=Europe/Amsterdam:20250513T213000
DTEND;TZID=Europe/Amsterdam:20250513T230000
DTSTAMP:20260422T235435
CREATED:20250424T181857Z
LAST-MODIFIED:20250424T184647Z
UID:573-1747171800-1747177200@realisayou.nl
SUMMARY:Essentiële oliën voor paarden
DESCRIPTION:GRATIS WEBINAR paarden en essentiële oliën. \nWat kun je verwachten? \n\nwat zijn essentiële oliën?\nwaarom dōTERRA\nveiligheid en kracht\nhoe kun je ze bij je paard inzetten?\nveelvoorkomende klachten bij paarden + olie\ngeurtest\naroma wellness behandeling\nachteraf wordt een olie verloot onder de deelnemers\n\nLijkt het je leuk om ook te leren hoe je zeer effectief je paard in zijn gezondheid kunt ondersteunen? \nWil je meedoen? Meld je aan en ontdek hoe essentiële oliën een waardevolle aanvulling kunnen zijn voor de gezondheid en het welzijn van je paard. \nIk werk samen met Wendy Draaijer\, en dit webinar wordt via haar georganiseerd. Na aanmelding ontvang je de link via WhatsApp\, dus zorg ervoor dat je je mobiele nummer doorgeeft.\nBij aanmelden even aangeven dat je via mij komt “Cindy B.”
URL:https://realisayou.nl/agenda/essentiele-olien-voor-paarden-2/
LOCATION:online
CATEGORIES:Dieren,Online
ATTACH;FMTTYPE=image/png:https://realisayou.nl/wp-content/uploads/2025/04/Scherm­afbeelding-2025-04-04-om-11.26.33.png
END:VEVENT
BEGIN:VEVENT
DTSTART;TZID=Europe/Amsterdam:20250428T213000
DTEND;TZID=Europe/Amsterdam:20250428T230000
DTSTAMP:20260422T235435
CREATED:20250404T072747Z
LAST-MODIFIED:20250426T113040Z
UID:561-1745875800-1745881200@realisayou.nl
SUMMARY:Essentiële oliën voor paarden
DESCRIPTION:GRATIS WEBINAR paarden en essentiële oliën. \nWat kun je verwachten? \n\nwat zijn essentiële oliën?\nwaarom dōTERRA\nveiligheid en kracht\nhoe kun je ze bij je paard inzetten?\nveelvoorkomende klachten bij paarden + olie\ngeurtest\naroma wellness behandeling\nachteraf wordt een olie verloot onder de deelnemers\n\nLijkt het je leuk om ook te leren hoe je zeer effectief je paard in zijn gezondheid kunt ondersteunen? \nWil je meedoen? Meld je aan en ontdek hoe essentiële oliën een waardevolle aanvulling kunnen zijn voor de gezondheid en het welzijn van je paard. \nIk werk samen met Wendy Draaijer\, en dit webinar wordt via haar georganiseerd. Na aanmelding ontvang je de link via WhatsApp\, dus zorg ervoor dat je je mobiele nummer doorgeeft.\nBij aanmelden even aangeven dat je via mij komt “Cindy B.”
URL:https://realisayou.nl/agenda/essentiele-olien-voor-paarden/
LOCATION:online
CATEGORIES:Dieren,Online
ATTACH;FMTTYPE=image/png:https://realisayou.nl/wp-content/uploads/2025/04/Scherm­afbeelding-2025-04-04-om-11.26.33.png
END:VEVENT
BEGIN:VEVENT
DTSTART;TZID=Europe/Amsterdam:20250422T213000
DTEND;TZID=Europe/Amsterdam:20250422T230000
DTSTAMP:20260422T235435
CREATED:20250404T071611Z
LAST-MODIFIED:20250404T073053Z
UID:558-1745357400-1745362800@realisayou.nl
SUMMARY:Essentiële oliën voor honden
DESCRIPTION:Gratis Webinar: Essentiële oliën voor honden \nIn deze webinar leer je hoe je essentiële oliën op een veilige en effectieve manier kunt gebruiken om jouw hond te ondersteunen. We bespreken welke oliën geschikt zijn\, hoe je ze toepast en wat een verantwoorde dosering is. \nIk werk samen met Wendy van Essentiële Olie en Meer\, en dit webinar wordt via haar georganiseerd. Na aanmelding ontvang je de link via WhatsApp\, dus zorg ervoor dat je je mobiele nummer doorgeeft. Vermeld daarbij ook mijn naam\, Cindy B.\, zodat Wendy weet dat je via mij komt. \nWil je meedoen? Meld je aan en ontdek hoe essentiële oliën een waardevolle aanvulling kunnen zijn voor de gezondheid en het welzijn van je hond.
URL:https://realisayou.nl/agenda/essentiele-olien-voor-honden/
LOCATION:online
CATEGORIES:Dieren,Online
ATTACH;FMTTYPE=image/png:https://realisayou.nl/wp-content/uploads/2025/03/Scherm­afbeelding-2025-03-22-om-14.48.19.png
END:VEVENT
END:VCALENDAR