BEGIN:VCALENDAR
VERSION:2.0
PRODID:-//ReaLisa You - ECPv6.15.20//NONSGML v1.0//EN
CALSCALE:GREGORIAN
METHOD:PUBLISH
X-ORIGINAL-URL:https://realisayou.nl
X-WR-CALDESC:Evenementen voor ReaLisa You
REFRESH-INTERVAL;VALUE=DURATION:PT1H
X-Robots-Tag:noindex
X-PUBLISHED-TTL:PT1H
BEGIN:VTIMEZONE
TZID:Europe/Amsterdam
BEGIN:DAYLIGHT
TZOFFSETFROM:+0100
TZOFFSETTO:+0200
TZNAME:CEST
DTSTART:20250330T010000
END:DAYLIGHT
BEGIN:STANDARD
TZOFFSETFROM:+0200
TZOFFSETTO:+0100
TZNAME:CET
DTSTART:20251026T010000
END:STANDARD
BEGIN:DAYLIGHT
TZOFFSETFROM:+0100
TZOFFSETTO:+0200
TZNAME:CEST
DTSTART:20260329T010000
END:DAYLIGHT
BEGIN:STANDARD
TZOFFSETFROM:+0200
TZOFFSETTO:+0100
TZNAME:CET
DTSTART:20261025T010000
END:STANDARD
BEGIN:DAYLIGHT
TZOFFSETFROM:+0100
TZOFFSETTO:+0200
TZNAME:CEST
DTSTART:20270328T010000
END:DAYLIGHT
BEGIN:STANDARD
TZOFFSETFROM:+0200
TZOFFSETTO:+0100
TZNAME:CET
DTSTART:20271031T010000
END:STANDARD
END:VTIMEZONE
BEGIN:VEVENT
DTSTART;VALUE=DATE:20260316
DTEND;VALUE=DATE:20260324
DTSTAMP:20260423T134708
CREATED:20260305T115156Z
LAST-MODIFIED:20260305T115739Z
UID:1975-1773619200-1774310399@realisayou.nl
SUMMARY:7-Dagen Energie Challenge
DESCRIPTION:Lijkt het alsof iedereen langzaam weer uit zijn winterslaap ontwaakt?\nDe zon laat zich vaker zien\nDe dagen worden langer\nDe vogeltjes beginnen weer te fluiten \nEn ineens voelen veel mensen hetzelfde:\n✨ Tijd voor nieuwe energie\n✨ Tijd om op te ruimen\n✨ Tijd om weer beter voor jezelf te zorgen \nDaarom starten wij op 16 maart met de 7-Dagen Energie Challenge.\nEen week waarin je elke dag een kleine\, simpele stap zet richting meer energie en balans.\n7 dagen\n7 kleine gewoontes\n7 momenten voor jezelf \nEn juist die kleine momenten kunnen een groot verschil maken.\nTijdens deze challenge ontvang je iedere dag:\n•⁠ ⁠een korte video\n•⁠ ⁠een eenvoudige tip\n•⁠ ⁠een natuurlijke boost voor je energie en ontspanning\nZodat je kunt ervaren hoe je lichaam weer uit de winterstand komt en je met frisse energie de lente ingaat. \nJe kunt meedoen op twee manieren:\nHeb je al oliën in huis en zit je in team Essentiële oliën en meer.\nDan kun je gratis deelnemen.\nNog geen oliën?\nDan kun je een samplepakket met 7 samples aanvragen voor €7 zodat je de hele week mee kunt doen.\nZit je in een ander team en wil je graag deelnemen? Dat kan voor €27\nEn om het extra leuk te maken verloten we iedere dag een cadeautje onder de deelnemers die actief meedoen. \nWil je meedoen?\nMeld je aan via de link en vermeld dat je via ‘Cindy B’ komt
URL:https://realisayou.nl/agenda/7-dagen-energie-challenge/
LOCATION:online
CATEGORIES:Challenge
ATTACH;FMTTYPE=image/png:https://realisayou.nl/wp-content/uploads/2026/03/Scherm­afbeelding-2026-03-05-om-12.35.53.png
END:VEVENT
END:VCALENDAR