BEGIN:VCALENDAR
VERSION:2.0
PRODID:-//ReaLisa You - ECPv6.15.20//NONSGML v1.0//EN
CALSCALE:GREGORIAN
METHOD:PUBLISH
X-ORIGINAL-URL:https://realisayou.nl
X-WR-CALDESC:Evenementen voor ReaLisa You
REFRESH-INTERVAL;VALUE=DURATION:PT1H
X-Robots-Tag:noindex
X-PUBLISHED-TTL:PT1H
BEGIN:VTIMEZONE
TZID:Europe/Amsterdam
BEGIN:DAYLIGHT
TZOFFSETFROM:+0100
TZOFFSETTO:+0200
TZNAME:CEST
DTSTART:20240331T010000
END:DAYLIGHT
BEGIN:STANDARD
TZOFFSETFROM:+0200
TZOFFSETTO:+0100
TZNAME:CET
DTSTART:20241027T010000
END:STANDARD
BEGIN:DAYLIGHT
TZOFFSETFROM:+0100
TZOFFSETTO:+0200
TZNAME:CEST
DTSTART:20250330T010000
END:DAYLIGHT
BEGIN:STANDARD
TZOFFSETFROM:+0200
TZOFFSETTO:+0100
TZNAME:CET
DTSTART:20251026T010000
END:STANDARD
BEGIN:DAYLIGHT
TZOFFSETFROM:+0100
TZOFFSETTO:+0200
TZNAME:CEST
DTSTART:20260329T010000
END:DAYLIGHT
BEGIN:STANDARD
TZOFFSETFROM:+0200
TZOFFSETTO:+0100
TZNAME:CET
DTSTART:20261025T010000
END:STANDARD
END:VTIMEZONE
BEGIN:VEVENT
DTSTART;TZID=Europe/Amsterdam:20251211T193000
DTEND;TZID=Europe/Amsterdam:20251211T210000
DTSTAMP:20260423T174820
CREATED:20251118T223831Z
LAST-MODIFIED:20251118T223831Z
UID:1349-1765481400-1765486800@realisayou.nl
SUMMARY:De kracht van de Natuur
DESCRIPTION:Webinar: Ben je benieuwd naar essentiële oliën maar weet je niet waar te beginnen \nDonderdag 11 december geven we een webinar waarin we je kennis laten maken met essentiële oliën.\nWe  laten je zien: Waarvoor je deze oliën kunt inzetten – voor jezelf\, je gezin én je huis\nHoe je ze veilig gebruikt (ook met kinderen of dieren in huis)\nHoe jij zelf laagdrempelig kunt starten – met persoonlijke begeleiding én alle tools\nEn…\nBeperkt aantal plekken per workshop!\nDus meld je snel aan! \nAanmelden kan hier. \nIk werk samen met Wendy van ‘essentiële oliën en meer’ zij zal dit webinar organiseren. Bij aanmelden graag even vermelden dat je via mij ‘Cindy B’ komt. \nVeel plezier! \nLiefs Cindy 🌸
URL:https://realisayou.nl/agenda/de-kracht-van-de-natuur-2/
LOCATION:online
CATEGORIES:Basis workshop,Low Tox Lifestyle,Online
ATTACH;FMTTYPE=image/png:https://realisayou.nl/wp-content/uploads/2025/04/Scherm­afbeelding-2025-04-04-om-10.23.23.png
END:VEVENT
END:VCALENDAR