BEGIN:VCALENDAR
VERSION:2.0
PRODID:-//ReaLisa You - ECPv6.15.20//NONSGML v1.0//EN
CALSCALE:GREGORIAN
METHOD:PUBLISH
X-WR-CALNAME:ReaLisa You
X-ORIGINAL-URL:https://realisayou.nl
X-WR-CALDESC:Evenementen voor ReaLisa You
REFRESH-INTERVAL;VALUE=DURATION:PT1H
X-Robots-Tag:noindex
X-PUBLISHED-TTL:PT1H
BEGIN:VTIMEZONE
TZID:Europe/Amsterdam
BEGIN:DAYLIGHT
TZOFFSETFROM:+0100
TZOFFSETTO:+0200
TZNAME:CEST
DTSTART:20250330T010000
END:DAYLIGHT
BEGIN:STANDARD
TZOFFSETFROM:+0200
TZOFFSETTO:+0100
TZNAME:CET
DTSTART:20251026T010000
END:STANDARD
BEGIN:DAYLIGHT
TZOFFSETFROM:+0100
TZOFFSETTO:+0200
TZNAME:CEST
DTSTART:20260329T010000
END:DAYLIGHT
BEGIN:STANDARD
TZOFFSETFROM:+0200
TZOFFSETTO:+0100
TZNAME:CET
DTSTART:20261025T010000
END:STANDARD
BEGIN:DAYLIGHT
TZOFFSETFROM:+0100
TZOFFSETTO:+0200
TZNAME:CEST
DTSTART:20270328T010000
END:DAYLIGHT
BEGIN:STANDARD
TZOFFSETFROM:+0200
TZOFFSETTO:+0100
TZNAME:CET
DTSTART:20271031T010000
END:STANDARD
END:VTIMEZONE
BEGIN:VEVENT
DTSTART;TZID=Europe/Amsterdam:20260407T193000
DTEND;TZID=Europe/Amsterdam:20260407T210000
DTSTAMP:20260422T185514
CREATED:20260326T144009Z
LAST-MODIFIED:20260326T144009Z
UID:2006-1775590200-1775595600@realisayou.nl
SUMMARY:Honden en essentiële oliën
DESCRIPTION:In deze webinar vertel ik je alles over het veilig gebruiken van essentiële oliën bij honden. \nHoe kunnen wij onze honden ondersteunen met essentiële oliën en wat is een veilige dosering om te gebruiken? Na het aanmelden ontvang je de link van de webinar per whatsapp\, dus vergeet niet je mobiele nummer aan te geven. \nJe kunt je hier aanmelden. 
URL:https://realisayou.nl/agenda/honden-en-essentiele-olien/
LOCATION:online
ATTACH;FMTTYPE=image/png:https://realisayou.nl/wp-content/uploads/2025/03/Scherm­afbeelding-2025-03-22-om-14.48.19.png
END:VEVENT
END:VCALENDAR