BEGIN:VCALENDAR
VERSION:2.0
PRODID:-//ReaLisa You - ECPv6.15.20//NONSGML v1.0//EN
CALSCALE:GREGORIAN
METHOD:PUBLISH
X-WR-CALNAME:ReaLisa You
X-ORIGINAL-URL:https://realisayou.nl
X-WR-CALDESC:Evenementen voor ReaLisa You
REFRESH-INTERVAL;VALUE=DURATION:PT1H
X-Robots-Tag:noindex
X-PUBLISHED-TTL:PT1H
BEGIN:VTIMEZONE
TZID:Europe/Amsterdam
BEGIN:DAYLIGHT
TZOFFSETFROM:+0100
TZOFFSETTO:+0200
TZNAME:CEST
DTSTART:20240331T010000
END:DAYLIGHT
BEGIN:STANDARD
TZOFFSETFROM:+0200
TZOFFSETTO:+0100
TZNAME:CET
DTSTART:20241027T010000
END:STANDARD
BEGIN:DAYLIGHT
TZOFFSETFROM:+0100
TZOFFSETTO:+0200
TZNAME:CEST
DTSTART:20250330T010000
END:DAYLIGHT
BEGIN:STANDARD
TZOFFSETFROM:+0200
TZOFFSETTO:+0100
TZNAME:CET
DTSTART:20251026T010000
END:STANDARD
BEGIN:DAYLIGHT
TZOFFSETFROM:+0100
TZOFFSETTO:+0200
TZNAME:CEST
DTSTART:20260329T010000
END:DAYLIGHT
BEGIN:STANDARD
TZOFFSETFROM:+0200
TZOFFSETTO:+0100
TZNAME:CET
DTSTART:20261025T010000
END:STANDARD
END:VTIMEZONE
BEGIN:VEVENT
DTSTART;VALUE=DATE:20251118
DTEND;VALUE=DATE:20251128
DTSTAMP:20260423T125027
CREATED:20251007T153152Z
LAST-MODIFIED:20251007T153152Z
UID:1220-1763424000-1764287999@realisayou.nl
SUMMARY:Nieuwe Maan Reset – 10 dagen in balans & vernieuwing
DESCRIPTION:🌑 Nieuwe Maan Reset – 10 dagen in balans & vernieuwing\nVoel je dat het tijd is om opnieuw te beginnen — met meer rust\, helderheid en balans in jezelf? \nDe Nieuwe Maan in Schorpioen nodigt je uit om stil te worden\, diep te ademen\, en bewust te kiezen welke energie je komende weken wilt voeden. \nEen zachte herstart voor lichaam\, geest en ziel. 🌸 \n🗓 Dinsdag 18 november t/m 27 november 2025 \n🌑 Nieuwe Maan in Schorpioen \nThema: innerlijke balans\, zelfliefde\, transformatie en ruimte creëren voor nieuwe intenties. \nTijdens deze 10-daagse Nieuwe Maan Reset ontvang je: \n• 🌿 Frequenties op afstand die jouw systeem helpen resetten en in balans brengen: detox\, inner peace\, new beginnings\, heart balance & clarity \n• 🎧 Persoonlijk muziekfragment\, afgestemd op jouw energie (na ontvangst van je stemopname) \n• 📘 E-book vol inspiratie\, reflectievragen\, mini-rituelen en essentiële olie-tips die passen bij de energie van de nieuwe maan \n✨ Deze periode draait om vertraging en afstemming. \nJe hoeft niets te forceren — laat de frequenties hun werk doen\, terwijl jij zacht meebeweegt met de natuurlijke cyclus van vernieuwing. \nNa je aanmelding ontvang je van mij een berichtje met wat ik nodig heb voor jouw persoonlijke scan. Zodra ik jouw stemopname heb ontvangen\, start ik meteen met het sturen van de frequenties en krijg jij jouw muziekfragment toegestuurd. 🌿 \n\nIk kijk ernaar uit om samen met jou deze Nieuwe Maan Reset te beleven 🌑 \nGun jezelf dit moment om stil te staan\, te ademen en je opnieuw te verbinden met jouw natuurlijke flow. \nLiefs\, \nCindy 🌸 \n\n\n\n\n\np.s. aanmelden kan via deze link
URL:https://realisayou.nl/agenda/nieuwe-maan-reset-10-dagen-in-balans-vernieuwing/
LOCATION:online
CATEGORIES:frequenties,Nieuwe Maan,Online
ATTACH;FMTTYPE=image/png:https://realisayou.nl/wp-content/uploads/2025/10/Scherm­afbeelding-2025-10-07-om-16.50.10.png
END:VEVENT
BEGIN:VEVENT
DTSTART;TZID=Europe/Amsterdam:20251123T100000
DTEND;TZID=Europe/Amsterdam:20251123T140000
DTSTAMP:20260423T125027
CREATED:20250711T114259Z
LAST-MODIFIED:20250925T211845Z
UID:824-1763892000-1763906400@realisayou.nl
SUMMARY:AromaTouch Techniek training
DESCRIPTION:AromaTouch™ Certificatie Training – Leer de techniek in één dag \nWil jij leren hoe je deze bijzondere techniek kunt toepassen? Tijdens de AromaTouch™ Certificatie Training leer je stap voor stap hoe je deze ontspannende en helende methode op de juiste manier uitvoert. \nOnze training bestaat uit twee delen: \nTheorie (online) – Je leert over de achtergrond van de AromaTouch™ Techniek\, de werking van de oliën en de impact op het zenuwstelsel. \nPraktijk (op locatie in een kleine groep) – Onder deskundige begeleiding leer je de techniek toe te passen en ervaar je zelf de werking. \nWat kun je verwachten van de training? \n✔ Een unieke en effectieve techniek leren die zowel ontspannend als krachtig is.\n✔ Direct toepasbaar na certificering\, voor privégebruik of als aanvulling op je praktijk.\n✔ Persoonlijke begeleiding door ervaren trainers in een prettige en veilige leeromgeving.\n✔ Een AromaTouch Kit met 8 essentiële oliën om direct mee aan de slag te gaan.\n✔ Een officieel AromaTouch™ certificaat van doTERRA na afronding van de training. \nVoor wie is de AromaTouch™ Training? \nDeze training is geschikt voor iedereen\, ongeacht ervaring. Je hebt geen vooropleiding nodig om deel te nemen. De techniek is ideaal voor: \n✔Wellness professionals zoals masseurs\, fysiotherapeuten en aromatherapeuten.\n✔Sporters\, trainers en therapeuten die een extra techniek willen toevoegen aan hun diensten.\n✔ Mensen die essentiële oliën willen leren toepassen binnen hun gezin of vriendenkring. \nDe kosten:\n– € 150\,- incl. 8 flesjes essentiële oliën van 5 ml per stuk\n– € 289\,- incl. 8 flesjes essentiële olien van 15 ml per stuk + 115 ml kokosolie (alleen te bestellen wanneer je nog geen doterra kortingsaccount hebt.) \nDeze AromaTouch training wordt gegeven onderleiding van mijn collega Wendy Draaijer. \nIk meld mij graag aan via deze link\nMeld bij de aanmelding dat je via “Cindy B”  komt.
URL:https://realisayou.nl/agenda/aromatouch-techniek-10/
LOCATION:Apeldoorn
CATEGORIES:AromaTouch Techniek,massage
ATTACH;FMTTYPE=image/png:https://realisayou.nl/wp-content/uploads/2025/04/Scherm­afbeelding-2025-04-01-om-17.31.26.png
END:VEVENT
END:VCALENDAR