BEGIN:VCALENDAR
VERSION:2.0
PRODID:-//ReaLisa You - ECPv6.15.20//NONSGML v1.0//EN
CALSCALE:GREGORIAN
METHOD:PUBLISH
X-WR-CALNAME:ReaLisa You
X-ORIGINAL-URL:https://realisayou.nl
X-WR-CALDESC:Evenementen voor ReaLisa You
REFRESH-INTERVAL;VALUE=DURATION:PT1H
X-Robots-Tag:noindex
X-PUBLISHED-TTL:PT1H
BEGIN:VTIMEZONE
TZID:Europe/Amsterdam
BEGIN:DAYLIGHT
TZOFFSETFROM:+0100
TZOFFSETTO:+0200
TZNAME:CEST
DTSTART:20240331T010000
END:DAYLIGHT
BEGIN:STANDARD
TZOFFSETFROM:+0200
TZOFFSETTO:+0100
TZNAME:CET
DTSTART:20241027T010000
END:STANDARD
BEGIN:DAYLIGHT
TZOFFSETFROM:+0100
TZOFFSETTO:+0200
TZNAME:CEST
DTSTART:20250330T010000
END:DAYLIGHT
BEGIN:STANDARD
TZOFFSETFROM:+0200
TZOFFSETTO:+0100
TZNAME:CET
DTSTART:20251026T010000
END:STANDARD
BEGIN:DAYLIGHT
TZOFFSETFROM:+0100
TZOFFSETTO:+0200
TZNAME:CEST
DTSTART:20260329T010000
END:DAYLIGHT
BEGIN:STANDARD
TZOFFSETFROM:+0200
TZOFFSETTO:+0100
TZNAME:CET
DTSTART:20261025T010000
END:STANDARD
END:VTIMEZONE
BEGIN:VEVENT
DTSTART;VALUE=DATE:20251020
DTEND;VALUE=DATE:20251030
DTSTAMP:20260423T185732
CREATED:20251007T145933Z
LAST-MODIFIED:20251007T152410Z
UID:1215-1760918400-1761782399@realisayou.nl
SUMMARY:Nieuwe Maan Reset – 10 dagen in balans & vernieuwing
DESCRIPTION:🌑 Nieuwe Maan Reset – 10 dagen in balans & vernieuwing \nVoel je dat het tijd is om opnieuw te beginnen — met meer rust\, helderheid en balans in jezelf?\nDe Nieuwe Maan in Weegschaal nodigt je uit om stil te worden\, diep te ademen\, en bewust te kiezen welke energie je komende weken wilt voeden.\nEen zachte herstart voor lichaam\, geest en ziel. 🌸 \n🗓 Maandag 20 oktober t/m 28 oktober 2025\n🌑 Nieuwe Maan in Weegschaal\nThema: innerlijke balans\, zelfliefde\, en ruimte creëren voor nieuwe intenties. \nTijdens deze 10-daagse Nieuwe Maan Reset ontvang je:\n• 🌿 Frequenties op afstand die jouw systeem helpen resetten en in balans brengen: detox\, inner peace\, new beginnings\, heart balance & clarity\n• 🎧 Persoonlijk muziekfragment\, afgestemd op jouw energie (na ontvangst van je stemopname)\n• 📘 E-book vol inspiratie\, reflectievragen\, mini-rituelen en essentiële olie-tips die passen bij de energie van de nieuwe maan \n✨ Deze periode draait om vertraging en afstemming.\nJe hoeft niets te forceren — laat de frequenties hun werk doen\, terwijl jij zacht meebeweegt met de natuurlijke cyclus van vernieuwing. \nNa je aanmelding ontvang je van mij een berichtje met wat ik nodig heb voor jouw persoonlijke scan. Zodra ik jouw stemopname heb ontvangen\, start ik meteen met het sturen van de frequenties en krijg jij jouw muziekfragment toegestuurd. 🌿 \nIk kijk ernaar uit om samen met jou deze Nieuwe Maan Reset te beleven 🌑\nGun jezelf dit moment om stil te staan\, te ademen en je opnieuw te verbinden met jouw natuurlijke flow. \nLiefs\,\nCindy 🌸 \n\n\n\n\n\np.s. aanmelden kan via deze link
URL:https://realisayou.nl/agenda/nieuwe-maan-reset/
LOCATION:online
CATEGORIES:frequenties,Nieuwe Maan,Online
ATTACH;FMTTYPE=image/png:https://realisayou.nl/wp-content/uploads/2025/10/Scherm­afbeelding-2025-10-07-om-16.50.10.png
END:VEVENT
BEGIN:VEVENT
DTSTART;TZID=Europe/Amsterdam:20251021T193000
DTEND;TZID=Europe/Amsterdam:20251021T210000
DTSTAMP:20260423T185732
CREATED:20250929T205607Z
LAST-MODIFIED:20250929T205607Z
UID:1114-1761075000-1761080400@realisayou.nl
SUMMARY:Essentiële oliën voor paarden
DESCRIPTION:GRATIS WEBINAR paarden en essentiële oliën. \nWat kun je verwachten? \n\nwat zijn essentiële oliën?\nwaarom dōTERRA\nveiligheid en kracht\nhoe kun je ze bij je paard inzetten?\nveelvoorkomende klachten bij paarden + olie\ngeurtest\naroma wellness behandeling\nachteraf wordt een olie verloot onder de deelnemers\n\nLijkt het je leuk om ook te leren hoe je zeer effectief je paard in zijn gezondheid kunt ondersteunen? \nWil je meedoen? Meld je aan en ontdek hoe essentiële oliën een waardevolle aanvulling kunnen zijn voor de gezondheid en het welzijn van je paard. \nIk werk samen met Wendy Draaijer\, en dit webinar wordt via haar georganiseerd. Na aanmelding ontvang je de link via WhatsApp\, dus zorg ervoor dat je je mobiele nummer doorgeeft.\nBij aanmelden even aangeven dat je via mij komt “Cindy B.”
URL:https://realisayou.nl/agenda/essentiele-olien-voor-paarden-6/
LOCATION:online
CATEGORIES:Dieren,Online
ATTACH;FMTTYPE=image/png:https://realisayou.nl/wp-content/uploads/2025/04/Scherm­afbeelding-2025-04-04-om-11.26.33.png
END:VEVENT
END:VCALENDAR