BEGIN:VCALENDAR
VERSION:2.0
PRODID:-//ReaLisa You - ECPv6.15.20//NONSGML v1.0//EN
CALSCALE:GREGORIAN
METHOD:PUBLISH
X-WR-CALNAME:ReaLisa You
X-ORIGINAL-URL:https://realisayou.nl
X-WR-CALDESC:Evenementen voor ReaLisa You
REFRESH-INTERVAL;VALUE=DURATION:PT1H
X-Robots-Tag:noindex
X-PUBLISHED-TTL:PT1H
BEGIN:VTIMEZONE
TZID:Europe/Amsterdam
BEGIN:DAYLIGHT
TZOFFSETFROM:+0100
TZOFFSETTO:+0200
TZNAME:CEST
DTSTART:20240331T010000
END:DAYLIGHT
BEGIN:STANDARD
TZOFFSETFROM:+0200
TZOFFSETTO:+0100
TZNAME:CET
DTSTART:20241027T010000
END:STANDARD
BEGIN:DAYLIGHT
TZOFFSETFROM:+0100
TZOFFSETTO:+0200
TZNAME:CEST
DTSTART:20250330T010000
END:DAYLIGHT
BEGIN:STANDARD
TZOFFSETFROM:+0200
TZOFFSETTO:+0100
TZNAME:CET
DTSTART:20251026T010000
END:STANDARD
BEGIN:DAYLIGHT
TZOFFSETFROM:+0100
TZOFFSETTO:+0200
TZNAME:CEST
DTSTART:20260329T010000
END:DAYLIGHT
BEGIN:STANDARD
TZOFFSETFROM:+0200
TZOFFSETTO:+0100
TZNAME:CET
DTSTART:20261025T010000
END:STANDARD
END:VTIMEZONE
BEGIN:VEVENT
DTSTART;VALUE=DATE:20251006
DTEND;VALUE=DATE:20251016
DTSTAMP:20260423T093139
CREATED:20251002T100309Z
LAST-MODIFIED:20251004T110236Z
UID:1092-1759708800-1760572799@realisayou.nl
SUMMARY:Volle Maan Detox – 10 dagen loslaten & opladen 
DESCRIPTION:Volle Maan Detox – 10 dagen loslaten & opladen 🌕 \nVoel je dat het tijd is om los te laten wat jou niet meer dient? Om lichter\, helderder en met nieuwe energie de herfst in te gaan? \nMaandag 6 oktober t/m woensdag 15 oktober 2025 \n✨ Volle Maan in Ram \nThema: Loslaten van spanning en oude patronen\, ruimte maken voor moed\, actie en helderheid. \nTijdens deze 10-daagse Volle Maan Detox ontvang je: \n– Frequenties op afstand die jouw lichaam en energieveld ondersteunen: detox\, heavy metal reiniging\, Cell Salts en een immuunboost\n– Persoonlijk muziekfragment\, afgestemd op jouw energie\, nadat ik jouw stemopname heb ontvangen\n– E-book vol praktische tips\, essentiële olie tips\, affirmaties en mini-rituelen \nAlles wat loskomt mag er zijn. Jij bepaalt zelf hoe actief je meedoet – de scans werken op afstand\, of je nu bewust meedoet of het rustig over je heen laat komen. Beide is helemaal prima. Niets moet! \nZodra je je aanmeldt\, stuur ik je een berichtje met uitleg over de info die ik nodig heb voor jouw scan. Zodra ik deze heb\, ontvang je jouw muziekfragment en start ik meteen met het sturen van de frequenties. Zo kun jij direct aan de slag met jouw persoonlijke proces. \nIk kijk ernaar uit om deze Volle Maan Detox samen met jou te beleven! ✨ Gun jezelf deze tijd om los te laten\, op te laden en helder de herfst in te stappen. \nLiefs\, \nCindy 🌸 \n\n\np.s. aanmelden kan via deze link
URL:https://realisayou.nl/agenda/volle-maan-detox-2/
LOCATION:online
CATEGORIES:frequenties,Volle maan
ATTACH;FMTTYPE=image/png:https://realisayou.nl/wp-content/uploads/2025/09/Scherm­afbeelding-2025-09-04-om-17.47.55.png
END:VEVENT
BEGIN:VEVENT
DTSTART;TZID=Europe/Amsterdam:20251015T193000
DTEND;TZID=Europe/Amsterdam:20251015T210000
DTSTAMP:20260423T093139
CREATED:20250924T205603Z
LAST-MODIFIED:20250925T212857Z
UID:1098-1760556600-1760562000@realisayou.nl
SUMMARY:Workshop: Loslaten
DESCRIPTION:De herfst is hét moment om stil te staan bij wat je niet langer nodig hebt. Tijdens onze online workshop “Loslaten” op 15 oktober om 19.30 uur nemen we je mee in een interactieve beleving met oliën\, acupressuurpunten\, affirmaties en frequenties. \nJe gaat dus niet alleen luisteren\, maar echt zelf aan de slag – voelen\, ervaren en toepassen. \nOm mee te kunnen doen\, is het echt van belang dat je de oliën in huis hebt: Cypress\, Lemongrass\, Bergamot\, Juniper Berry en de Forgive blend. allemaal krachtig bij het thema loslaten. \n👉 Ben jij lid van ‘Essentiële Oliën en Meer’ en heb je de oliën in huis? Dan kun je gratis meedoen. (mits je de oliën in huis hebt 😉) \n👉 Heb je de oliën nog niet? Geen zorgen\, je kunt een handig sample-pakketje bij ons aanvragen zodat je toch helemaal mee kunt doen. \n💌 Voor info & aanmelden klik hier. \nGun jezelf dit moment om los te laten en ruimte te maken voor nieuwe energie.\nHopelijk zie ik je de 15 oktober! \nLiefs\,\nCindy \np.s.  De oliën die we gaan gebruiken tijdens deze workshop zijn: Cypress\, Lemongrass\, Bergamot\, Juniper Berry en de Forgive blend. Dan kun je ook beter inschatten welk ticket voor jou van belang is\, of nog even net die ene olie aanschaffen 😉
URL:https://realisayou.nl/agenda/workshop-loslaten/
LOCATION:online
CATEGORIES:Online
ATTACH;FMTTYPE=image/png:https://realisayou.nl/wp-content/uploads/2025/09/Scherm­afbeelding-2025-09-24-om-22.28.23.png
END:VEVENT
END:VCALENDAR