BEGIN:VCALENDAR
VERSION:2.0
PRODID:-//ReaLisa You - ECPv6.15.20//NONSGML v1.0//EN
CALSCALE:GREGORIAN
METHOD:PUBLISH
X-ORIGINAL-URL:https://realisayou.nl
X-WR-CALDESC:Evenementen voor ReaLisa You
REFRESH-INTERVAL;VALUE=DURATION:PT1H
X-Robots-Tag:noindex
X-PUBLISHED-TTL:PT1H
BEGIN:VTIMEZONE
TZID:Europe/Amsterdam
BEGIN:DAYLIGHT
TZOFFSETFROM:+0100
TZOFFSETTO:+0200
TZNAME:CEST
DTSTART:20240331T010000
END:DAYLIGHT
BEGIN:STANDARD
TZOFFSETFROM:+0200
TZOFFSETTO:+0100
TZNAME:CET
DTSTART:20241027T010000
END:STANDARD
BEGIN:DAYLIGHT
TZOFFSETFROM:+0100
TZOFFSETTO:+0200
TZNAME:CEST
DTSTART:20250330T010000
END:DAYLIGHT
BEGIN:STANDARD
TZOFFSETFROM:+0200
TZOFFSETTO:+0100
TZNAME:CET
DTSTART:20251026T010000
END:STANDARD
BEGIN:DAYLIGHT
TZOFFSETFROM:+0100
TZOFFSETTO:+0200
TZNAME:CEST
DTSTART:20260329T010000
END:DAYLIGHT
BEGIN:STANDARD
TZOFFSETFROM:+0200
TZOFFSETTO:+0100
TZNAME:CET
DTSTART:20261025T010000
END:STANDARD
END:VTIMEZONE
BEGIN:VEVENT
DTSTART;TZID=Europe/Amsterdam:20250624T180000
DTEND;TZID=Europe/Amsterdam:20250624T220000
DTSTAMP:20260424T012358
CREATED:20250527T113653Z
LAST-MODIFIED:20250616T145911Z
UID:644-1750788000-1750802400@realisayou.nl
SUMMARY:Lets Learn\, feel & Connect - Apeldoorn
DESCRIPTION:doTERRA Event Apeldoorn – Let’s Learn\, Feel & Connect! ✨🌿 \n🕐 18.00 – 22.00\n(Inloop/registratie event: 17.45-18.00. Business gedeelte van 18.00-19.00) \nBen jij klaar voor een inspirerende avond vol oliemagie\, zelfzorg en verbinding?\nKom naar hét doTERRA event van het Oosten! \n👯‍♀️ We starten samen met een inspirerende opening. We vertellen je ALLES over de conventiekit en goed beschermd de zomer door! Daarna gaan we toffe interactieve mini-workshops volgen en je nog meer inspireren. Als klap op de vuurpijl– mét verloting van fijne goodies! 🛍️🎁 \n🎟️ Jouw ticket: €25\,- incl. gratis olie (15ml Cananga) en lootje voor de verloting\, hapjes en heerlijke drankjes!\n💌 Beperkt aantal plekken – vol = vol! \nMeld je aan via deze link\nStuur mij aub ook even een berichtje met de tekst: “Apeldoorn” dan weet ik dat je er ook bent 😀
URL:https://realisayou.nl/agenda/lets-learn-feel-connect-apeldoorn/
LOCATION:Apeldoorn
CATEGORIES:Op locatie
ATTACH;FMTTYPE=image/webp:https://realisayou.nl/wp-content/uploads/2025/05/Scherm_afbeelding-2025-05-27-om-09.35.20.webp
END:VEVENT
END:VCALENDAR