BEGIN:VCALENDAR
VERSION:2.0
PRODID:-//ReaLisa You - ECPv6.15.20//NONSGML v1.0//EN
CALSCALE:GREGORIAN
METHOD:PUBLISH
X-ORIGINAL-URL:https://realisayou.nl
X-WR-CALDESC:Evenementen voor ReaLisa You
REFRESH-INTERVAL;VALUE=DURATION:PT1H
X-Robots-Tag:noindex
X-PUBLISHED-TTL:PT1H
BEGIN:VTIMEZONE
TZID:Europe/Amsterdam
BEGIN:DAYLIGHT
TZOFFSETFROM:+0100
TZOFFSETTO:+0200
TZNAME:CEST
DTSTART:20240331T010000
END:DAYLIGHT
BEGIN:STANDARD
TZOFFSETFROM:+0200
TZOFFSETTO:+0100
TZNAME:CET
DTSTART:20241027T010000
END:STANDARD
BEGIN:DAYLIGHT
TZOFFSETFROM:+0100
TZOFFSETTO:+0200
TZNAME:CEST
DTSTART:20250330T010000
END:DAYLIGHT
BEGIN:STANDARD
TZOFFSETFROM:+0200
TZOFFSETTO:+0100
TZNAME:CET
DTSTART:20251026T010000
END:STANDARD
BEGIN:DAYLIGHT
TZOFFSETFROM:+0100
TZOFFSETTO:+0200
TZNAME:CEST
DTSTART:20260329T010000
END:DAYLIGHT
BEGIN:STANDARD
TZOFFSETFROM:+0200
TZOFFSETTO:+0100
TZNAME:CET
DTSTART:20261025T010000
END:STANDARD
END:VTIMEZONE
BEGIN:VEVENT
DTSTART;TZID=Europe/Amsterdam:20250610T220000
DTEND;TZID=Europe/Amsterdam:20250610T223000
DTSTAMP:20260424T012413
CREATED:20250527T112053Z
LAST-MODIFIED:20250527T113958Z
UID:639-1749592800-1749594600@realisayou.nl
SUMMARY:Olie Speeddate
DESCRIPTION:Haal je vergeten olie uit de kast! Doe mee met onze 30-minuten olienspeeddate\nHeb jij ook zo’n olie in de kast staan die je ooit enthousiast bestelde (gratis product van de maand? BOGO-actie? ) en die je nu vergeten bent? Zonde\, toch?\nDaarom hebben\, Wendy & Leanne – iets super leuks bedacht: een 30 minuten SPEEDDATE met 3 oliën die jullie uit een poll hebben gekozen! \nDat zijn dit keer de Rose\, Rosemary en de Bergamot. \nZe delen praktische tips\, recepten en de mooiste toepassingen – lichamelijk én emotioneel. \nTijd om je oliën weer uit de kast te halen en opnieuw verliefd te worden. \nMeld je aan via deze link \nBij aanmelden aub even vermelden dat je via mij\, ‘Cindy B.’ komt. \n 
URL:https://realisayou.nl/agenda/olie-speeddate/
LOCATION:online
CATEGORIES:Online
ATTACH;FMTTYPE=image/webp:https://realisayou.nl/wp-content/uploads/2025/05/PHOTO-2025-05-26-23-22-24.webp
END:VEVENT
END:VCALENDAR