BEGIN:VCALENDAR
VERSION:2.0
PRODID:-//ReaLisa You - ECPv6.15.20//NONSGML v1.0//EN
CALSCALE:GREGORIAN
METHOD:PUBLISH
X-ORIGINAL-URL:https://realisayou.nl
X-WR-CALDESC:Evenementen voor ReaLisa You
REFRESH-INTERVAL;VALUE=DURATION:PT1H
X-Robots-Tag:noindex
X-PUBLISHED-TTL:PT1H
BEGIN:VTIMEZONE
TZID:Europe/Amsterdam
BEGIN:DAYLIGHT
TZOFFSETFROM:+0100
TZOFFSETTO:+0200
TZNAME:CEST
DTSTART:20240331T010000
END:DAYLIGHT
BEGIN:STANDARD
TZOFFSETFROM:+0200
TZOFFSETTO:+0100
TZNAME:CET
DTSTART:20241027T010000
END:STANDARD
BEGIN:DAYLIGHT
TZOFFSETFROM:+0100
TZOFFSETTO:+0200
TZNAME:CEST
DTSTART:20250330T010000
END:DAYLIGHT
BEGIN:STANDARD
TZOFFSETFROM:+0200
TZOFFSETTO:+0100
TZNAME:CET
DTSTART:20251026T010000
END:STANDARD
BEGIN:DAYLIGHT
TZOFFSETFROM:+0100
TZOFFSETTO:+0200
TZNAME:CEST
DTSTART:20260329T010000
END:DAYLIGHT
BEGIN:STANDARD
TZOFFSETFROM:+0200
TZOFFSETTO:+0100
TZNAME:CET
DTSTART:20261025T010000
END:STANDARD
END:VTIMEZONE
BEGIN:VEVENT
DTSTART;TZID=Europe/Amsterdam:20250519T220000
DTEND;TZID=Europe/Amsterdam:20250519T233000
DTSTAMP:20260424T042421
CREATED:20250426T112333Z
LAST-MODIFIED:20250426T112846Z
UID:598-1747692000-1747697400@realisayou.nl
SUMMARY:After conventie voorjaarstour met Wendy en Leanne
DESCRIPTION:In dit toffe webinar vertellen we je alles over wat er gedeeld is op de Europese Doterra conventie.\nLaat je onderdompelen in heel veel nieuwe olie info!\nWat gebeurt er als twee essentiële olie-liefhebbers de handen ineenslaan? Een waanzinnig programma boordevol kennis en praktijk! \nWe laten je zien hoe je essentiële oliën kunt inzetten om jezelf en anderen te ondersteunen. We laten je zien hoe je ze kunt inzetten voor lichamelijke en emotionele ondersteuning. \nDit is jouw kans! Dit webinar worden slechts één keer georganiseerd\, dus mis het niet! \nWil je deelnemen? Meld je aan en ontdek hoe essentiële oliën een waardevolle aanvulling kunnen zijn voor de gezondheid en het welzijn.  \nIk werk samen met Wendy Draaijer en Léanne Lovink\, en dit webinar wordt via deze dames georganiseerd.\nBij aanmelden even aangeven dat je via mij komt “Cindy B.”
URL:https://realisayou.nl/agenda/after-conventie-voorjaarstour-met-wendy-en-leanne/
LOCATION:online
CATEGORIES:Online
ATTACH;FMTTYPE=image/jpeg:https://realisayou.nl/wp-content/uploads/2025/04/PHOTO-2025-04-25-22-40-21.jpg
END:VEVENT
END:VCALENDAR